BEGIN:VCALENDAR
VERSION:2.0
PRODID:-//St John The Baptist Church, Hatherleigh - ECPv6.15.20//NONSGML v1.0//EN
CALSCALE:GREGORIAN
METHOD:PUBLISH
X-WR-CALNAME:St John The Baptist Church, Hatherleigh
X-ORIGINAL-URL:https://stjohnshatherleigh.uk
X-WR-CALDESC:Events for St John The Baptist Church, Hatherleigh
REFRESH-INTERVAL;VALUE=DURATION:PT1H
X-Robots-Tag:noindex
X-PUBLISHED-TTL:PT1H
BEGIN:VTIMEZONE
TZID:UTC
BEGIN:STANDARD
TZOFFSETFROM:+0000
TZOFFSETTO:+0000
TZNAME:UTC
DTSTART:20220101T000000
END:STANDARD
END:VTIMEZONE
BEGIN:VTIMEZONE
TZID:Europe/London
BEGIN:DAYLIGHT
TZOFFSETFROM:+0000
TZOFFSETTO:+0100
TZNAME:BST
DTSTART:20220327T010000
END:DAYLIGHT
BEGIN:STANDARD
TZOFFSETFROM:+0100
TZOFFSETTO:+0000
TZNAME:GMT
DTSTART:20221030T010000
END:STANDARD
BEGIN:DAYLIGHT
TZOFFSETFROM:+0000
TZOFFSETTO:+0100
TZNAME:BST
DTSTART:20230326T010000
END:DAYLIGHT
BEGIN:STANDARD
TZOFFSETFROM:+0100
TZOFFSETTO:+0000
TZNAME:GMT
DTSTART:20231029T010000
END:STANDARD
BEGIN:DAYLIGHT
TZOFFSETFROM:+0000
TZOFFSETTO:+0100
TZNAME:BST
DTSTART:20240331T010000
END:DAYLIGHT
BEGIN:STANDARD
TZOFFSETFROM:+0100
TZOFFSETTO:+0000
TZNAME:GMT
DTSTART:20241027T010000
END:STANDARD
END:VTIMEZONE
BEGIN:VEVENT
DTSTART;TZID=UTC:20230101T110000
DTEND;TZID=UTC:20230101T120000
DTSTAMP:20260422T094516
CREATED:20220418T121323Z
LAST-MODIFIED:20230106T103032Z
UID:10001938-1672570800-1672574400@stjohnshatherleigh.uk
SUMMARY:1st Sundays; Holy Communion
DESCRIPTION:1st Sundays; Holy Communion\nYou can expect traditional hymns with organ accompaniment\, bible readings\, a sermon\, prayers said for the wider world and the sharing of bread and wine in Holy Communion. The liturgy [words said] is in modern English taken from ‘common worship’.
URL:https://stjohnshatherleigh.uk/event/1st-sundays-holy-communion-8/2023-01-01/
LOCATION:St John’s Church – Hatherleigh\, St John's Church\, Hatherleigh\, EX20 3JN\, United Kingdom
CATEGORIES:Sunday Service
ATTACH;FMTTYPE=image/jpeg:https://stjohnshatherleigh.uk/wp-content/uploads/2022/02/HolyCommunion-013.jpg
ORGANIZER;CN="Leigh Winsbury":MAILTO:lwinsbury@googlemail.com
END:VEVENT
BEGIN:VEVENT
DTSTART;TZID=Europe/London:20230101T160000
DTEND;TZID=Europe/London:20230101T190000
DTSTAMP:20260422T094516
CREATED:20221118T144340Z
LAST-MODIFIED:20221118T144340Z
UID:10000788-1672588800-1672599600@stjohnshatherleigh.uk
SUMMARY:4.00pm Open House - The Rectory
DESCRIPTION:There will be no morning service on Sunday first of January\, but Leigh and Lynn warmly invite everyone to the Rectory at 4.00pm for a Bring and Share tea.  All are welcome. \n 
URL:https://stjohnshatherleigh.uk/event/4-00pm-open-house-the-rectory/
LOCATION:Devon
END:VEVENT
END:VCALENDAR