BEGIN:VCALENDAR
VERSION:2.0
PRODID:-//St John The Baptist Church, Hatherleigh - ECPv6.15.20//NONSGML v1.0//EN
CALSCALE:GREGORIAN
METHOD:PUBLISH
X-ORIGINAL-URL:https://stjohnshatherleigh.uk
X-WR-CALDESC:Events for St John The Baptist Church, Hatherleigh
REFRESH-INTERVAL;VALUE=DURATION:PT1H
X-Robots-Tag:noindex
X-PUBLISHED-TTL:PT1H
BEGIN:VTIMEZONE
TZID:Europe/London
BEGIN:DAYLIGHT
TZOFFSETFROM:+0000
TZOFFSETTO:+0100
TZNAME:BST
DTSTART:20240331T010000
END:DAYLIGHT
BEGIN:STANDARD
TZOFFSETFROM:+0100
TZOFFSETTO:+0000
TZNAME:GMT
DTSTART:20241027T010000
END:STANDARD
BEGIN:DAYLIGHT
TZOFFSETFROM:+0000
TZOFFSETTO:+0100
TZNAME:BST
DTSTART:20250330T010000
END:DAYLIGHT
BEGIN:STANDARD
TZOFFSETFROM:+0100
TZOFFSETTO:+0000
TZNAME:GMT
DTSTART:20251026T010000
END:STANDARD
BEGIN:DAYLIGHT
TZOFFSETFROM:+0000
TZOFFSETTO:+0100
TZNAME:BST
DTSTART:20260329T010000
END:DAYLIGHT
BEGIN:STANDARD
TZOFFSETFROM:+0100
TZOFFSETTO:+0000
TZNAME:GMT
DTSTART:20261025T010000
END:STANDARD
END:VTIMEZONE
BEGIN:VEVENT
DTSTART;VALUE=DATE:20250701
DTEND;VALUE=DATE:20250702
DTSTAMP:20260423T054719
CREATED:20250529T112800Z
LAST-MODIFIED:20250529T112800Z
UID:10004577-1751328000-1751414399@stjohnshatherleigh.uk
SUMMARY:Bible Study Group
DESCRIPTION:House Group\nIn these we study the bible together\, maybe picking up themes from the previous Sunday. We may sing a bit\, pray for one another and definitely will grow in friendship and fellowship. \nHeld every Tuesday\, Wednesday & Thursday. For more information contact Revd Leigh Winsbury on lwinsbury@googlemail.com / 01837 810680
URL:https://stjohnshatherleigh.uk/event/bible-study-group-42/2025-07-01/
CATEGORIES:Bible Study Group
ATTACH;FMTTYPE=image/jpeg:https://stjohnshatherleigh.uk/wp-content/uploads/2022/02/Home_Group.jpg
END:VEVENT
BEGIN:VEVENT
DTSTART;VALUE=DATE:20250702
DTEND;VALUE=DATE:20250703
DTSTAMP:20260423T054719
CREATED:20250529T112403Z
LAST-MODIFIED:20250529T112557Z
UID:10004047-1751414400-1751500799@stjohnshatherleigh.uk
SUMMARY:Bible Study Group
DESCRIPTION:House Group\nIn these we study the bible together\, maybe picking up themes from the previous Sunday. We may sing a bit\, pray for one another and definitely will grow in friendship and fellowship. \nHeld every Tuesday\, Wednesday & Thursday. For more information contact Revd Leigh Winsbury on lwinsbury@googlemail.com / 01837 810680
URL:https://stjohnshatherleigh.uk/event/bible-study-group-40-2/2025-07-02/
CATEGORIES:Bible Study Group
ATTACH;FMTTYPE=image/jpeg:https://stjohnshatherleigh.uk/wp-content/uploads/2022/02/Home_Group.jpg
END:VEVENT
BEGIN:VEVENT
DTSTART;VALUE=DATE:20250703
DTEND;VALUE=DATE:20250704
DTSTAMP:20260423T054719
CREATED:20250529T112302Z
LAST-MODIFIED:20250529T112302Z
UID:10003784-1751500800-1751587199@stjohnshatherleigh.uk
SUMMARY:Bible Study Group
DESCRIPTION:House Group\nIn these we study the bible together\, maybe picking up themes from the previous Sunday. We may sing a bit\, pray for one another and definitely will grow in friendship and fellowship. \nHeld every Tuesday\, Wednesday & Thursday. For more information contact Revd Leigh Winsbury on lwinsbury@googlemail.com / 01837 810680
URL:https://stjohnshatherleigh.uk/event/bible-study-group-41/2025-07-03/
CATEGORIES:Bible Study Group
ATTACH;FMTTYPE=image/jpeg:https://stjohnshatherleigh.uk/wp-content/uploads/2022/02/Home_Group.jpg
END:VEVENT
BEGIN:VEVENT
DTSTART;VALUE=DATE:20250708
DTEND;VALUE=DATE:20250709
DTSTAMP:20260423T054719
CREATED:20250529T112800Z
LAST-MODIFIED:20250529T112800Z
UID:10004578-1751932800-1752019199@stjohnshatherleigh.uk
SUMMARY:Bible Study Group
DESCRIPTION:House Group\nIn these we study the bible together\, maybe picking up themes from the previous Sunday. We may sing a bit\, pray for one another and definitely will grow in friendship and fellowship. \nHeld every Tuesday\, Wednesday & Thursday. For more information contact Revd Leigh Winsbury on lwinsbury@googlemail.com / 01837 810680
URL:https://stjohnshatherleigh.uk/event/bible-study-group-42/2025-07-08/
CATEGORIES:Bible Study Group
ATTACH;FMTTYPE=image/jpeg:https://stjohnshatherleigh.uk/wp-content/uploads/2022/02/Home_Group.jpg
END:VEVENT
BEGIN:VEVENT
DTSTART;VALUE=DATE:20250709
DTEND;VALUE=DATE:20250710
DTSTAMP:20260423T054720
CREATED:20250529T112403Z
LAST-MODIFIED:20250529T112557Z
UID:10004048-1752019200-1752105599@stjohnshatherleigh.uk
SUMMARY:Bible Study Group
DESCRIPTION:House Group\nIn these we study the bible together\, maybe picking up themes from the previous Sunday. We may sing a bit\, pray for one another and definitely will grow in friendship and fellowship. \nHeld every Tuesday\, Wednesday & Thursday. For more information contact Revd Leigh Winsbury on lwinsbury@googlemail.com / 01837 810680
URL:https://stjohnshatherleigh.uk/event/bible-study-group-40-2/2025-07-09/
CATEGORIES:Bible Study Group
ATTACH;FMTTYPE=image/jpeg:https://stjohnshatherleigh.uk/wp-content/uploads/2022/02/Home_Group.jpg
END:VEVENT
BEGIN:VEVENT
DTSTART;VALUE=DATE:20250710
DTEND;VALUE=DATE:20250711
DTSTAMP:20260423T054720
CREATED:20250529T112302Z
LAST-MODIFIED:20250529T112302Z
UID:10003785-1752105600-1752191999@stjohnshatherleigh.uk
SUMMARY:Bible Study Group
DESCRIPTION:House Group\nIn these we study the bible together\, maybe picking up themes from the previous Sunday. We may sing a bit\, pray for one another and definitely will grow in friendship and fellowship. \nHeld every Tuesday\, Wednesday & Thursday. For more information contact Revd Leigh Winsbury on lwinsbury@googlemail.com / 01837 810680
URL:https://stjohnshatherleigh.uk/event/bible-study-group-41/2025-07-10/
CATEGORIES:Bible Study Group
ATTACH;FMTTYPE=image/jpeg:https://stjohnshatherleigh.uk/wp-content/uploads/2022/02/Home_Group.jpg
END:VEVENT
BEGIN:VEVENT
DTSTART;VALUE=DATE:20250715
DTEND;VALUE=DATE:20250716
DTSTAMP:20260423T054720
CREATED:20250529T112800Z
LAST-MODIFIED:20250529T112800Z
UID:10004579-1752537600-1752623999@stjohnshatherleigh.uk
SUMMARY:Bible Study Group
DESCRIPTION:House Group\nIn these we study the bible together\, maybe picking up themes from the previous Sunday. We may sing a bit\, pray for one another and definitely will grow in friendship and fellowship. \nHeld every Tuesday\, Wednesday & Thursday. For more information contact Revd Leigh Winsbury on lwinsbury@googlemail.com / 01837 810680
URL:https://stjohnshatherleigh.uk/event/bible-study-group-42/2025-07-15/
CATEGORIES:Bible Study Group
ATTACH;FMTTYPE=image/jpeg:https://stjohnshatherleigh.uk/wp-content/uploads/2022/02/Home_Group.jpg
END:VEVENT
BEGIN:VEVENT
DTSTART;VALUE=DATE:20250716
DTEND;VALUE=DATE:20250717
DTSTAMP:20260423T054720
CREATED:20250529T112403Z
LAST-MODIFIED:20250529T112557Z
UID:10004049-1752624000-1752710399@stjohnshatherleigh.uk
SUMMARY:Bible Study Group
DESCRIPTION:House Group\nIn these we study the bible together\, maybe picking up themes from the previous Sunday. We may sing a bit\, pray for one another and definitely will grow in friendship and fellowship. \nHeld every Tuesday\, Wednesday & Thursday. For more information contact Revd Leigh Winsbury on lwinsbury@googlemail.com / 01837 810680
URL:https://stjohnshatherleigh.uk/event/bible-study-group-40-2/2025-07-16/
CATEGORIES:Bible Study Group
ATTACH;FMTTYPE=image/jpeg:https://stjohnshatherleigh.uk/wp-content/uploads/2022/02/Home_Group.jpg
END:VEVENT
BEGIN:VEVENT
DTSTART;VALUE=DATE:20250717
DTEND;VALUE=DATE:20250718
DTSTAMP:20260423T054720
CREATED:20250529T112302Z
LAST-MODIFIED:20250529T112302Z
UID:10003786-1752710400-1752796799@stjohnshatherleigh.uk
SUMMARY:Bible Study Group
DESCRIPTION:House Group\nIn these we study the bible together\, maybe picking up themes from the previous Sunday. We may sing a bit\, pray for one another and definitely will grow in friendship and fellowship. \nHeld every Tuesday\, Wednesday & Thursday. For more information contact Revd Leigh Winsbury on lwinsbury@googlemail.com / 01837 810680
URL:https://stjohnshatherleigh.uk/event/bible-study-group-41/2025-07-17/
CATEGORIES:Bible Study Group
ATTACH;FMTTYPE=image/jpeg:https://stjohnshatherleigh.uk/wp-content/uploads/2022/02/Home_Group.jpg
END:VEVENT
BEGIN:VEVENT
DTSTART;VALUE=DATE:20250722
DTEND;VALUE=DATE:20250723
DTSTAMP:20260423T054720
CREATED:20250529T112800Z
LAST-MODIFIED:20250529T112800Z
UID:10004580-1753142400-1753228799@stjohnshatherleigh.uk
SUMMARY:Bible Study Group
DESCRIPTION:House Group\nIn these we study the bible together\, maybe picking up themes from the previous Sunday. We may sing a bit\, pray for one another and definitely will grow in friendship and fellowship. \nHeld every Tuesday\, Wednesday & Thursday. For more information contact Revd Leigh Winsbury on lwinsbury@googlemail.com / 01837 810680
URL:https://stjohnshatherleigh.uk/event/bible-study-group-42/2025-07-22/
CATEGORIES:Bible Study Group
ATTACH;FMTTYPE=image/jpeg:https://stjohnshatherleigh.uk/wp-content/uploads/2022/02/Home_Group.jpg
END:VEVENT
BEGIN:VEVENT
DTSTART;VALUE=DATE:20250723
DTEND;VALUE=DATE:20250724
DTSTAMP:20260423T054720
CREATED:20250529T112403Z
LAST-MODIFIED:20250529T112557Z
UID:10004050-1753228800-1753315199@stjohnshatherleigh.uk
SUMMARY:Bible Study Group
DESCRIPTION:House Group\nIn these we study the bible together\, maybe picking up themes from the previous Sunday. We may sing a bit\, pray for one another and definitely will grow in friendship and fellowship. \nHeld every Tuesday\, Wednesday & Thursday. For more information contact Revd Leigh Winsbury on lwinsbury@googlemail.com / 01837 810680
URL:https://stjohnshatherleigh.uk/event/bible-study-group-40-2/2025-07-23/
CATEGORIES:Bible Study Group
ATTACH;FMTTYPE=image/jpeg:https://stjohnshatherleigh.uk/wp-content/uploads/2022/02/Home_Group.jpg
END:VEVENT
BEGIN:VEVENT
DTSTART;VALUE=DATE:20250724
DTEND;VALUE=DATE:20250725
DTSTAMP:20260423T054720
CREATED:20250529T112302Z
LAST-MODIFIED:20250529T112302Z
UID:10003787-1753315200-1753401599@stjohnshatherleigh.uk
SUMMARY:Bible Study Group
DESCRIPTION:House Group\nIn these we study the bible together\, maybe picking up themes from the previous Sunday. We may sing a bit\, pray for one another and definitely will grow in friendship and fellowship. \nHeld every Tuesday\, Wednesday & Thursday. For more information contact Revd Leigh Winsbury on lwinsbury@googlemail.com / 01837 810680
URL:https://stjohnshatherleigh.uk/event/bible-study-group-41/2025-07-24/
CATEGORIES:Bible Study Group
ATTACH;FMTTYPE=image/jpeg:https://stjohnshatherleigh.uk/wp-content/uploads/2022/02/Home_Group.jpg
END:VEVENT
BEGIN:VEVENT
DTSTART;VALUE=DATE:20250729
DTEND;VALUE=DATE:20250730
DTSTAMP:20260423T054720
CREATED:20250529T112800Z
LAST-MODIFIED:20250529T112800Z
UID:10004581-1753747200-1753833599@stjohnshatherleigh.uk
SUMMARY:Bible Study Group
DESCRIPTION:House Group\nIn these we study the bible together\, maybe picking up themes from the previous Sunday. We may sing a bit\, pray for one another and definitely will grow in friendship and fellowship. \nHeld every Tuesday\, Wednesday & Thursday. For more information contact Revd Leigh Winsbury on lwinsbury@googlemail.com / 01837 810680
URL:https://stjohnshatherleigh.uk/event/bible-study-group-42/2025-07-29/
CATEGORIES:Bible Study Group
ATTACH;FMTTYPE=image/jpeg:https://stjohnshatherleigh.uk/wp-content/uploads/2022/02/Home_Group.jpg
END:VEVENT
BEGIN:VEVENT
DTSTART;VALUE=DATE:20250730
DTEND;VALUE=DATE:20250731
DTSTAMP:20260423T054720
CREATED:20250529T112403Z
LAST-MODIFIED:20250529T112557Z
UID:10004051-1753833600-1753919999@stjohnshatherleigh.uk
SUMMARY:Bible Study Group
DESCRIPTION:House Group\nIn these we study the bible together\, maybe picking up themes from the previous Sunday. We may sing a bit\, pray for one another and definitely will grow in friendship and fellowship. \nHeld every Tuesday\, Wednesday & Thursday. For more information contact Revd Leigh Winsbury on lwinsbury@googlemail.com / 01837 810680
URL:https://stjohnshatherleigh.uk/event/bible-study-group-40-2/2025-07-30/
CATEGORIES:Bible Study Group
ATTACH;FMTTYPE=image/jpeg:https://stjohnshatherleigh.uk/wp-content/uploads/2022/02/Home_Group.jpg
END:VEVENT
BEGIN:VEVENT
DTSTART;VALUE=DATE:20250731
DTEND;VALUE=DATE:20250801
DTSTAMP:20260423T054720
CREATED:20250529T112302Z
LAST-MODIFIED:20250529T112302Z
UID:10003788-1753920000-1754006399@stjohnshatherleigh.uk
SUMMARY:Bible Study Group
DESCRIPTION:House Group\nIn these we study the bible together\, maybe picking up themes from the previous Sunday. We may sing a bit\, pray for one another and definitely will grow in friendship and fellowship. \nHeld every Tuesday\, Wednesday & Thursday. For more information contact Revd Leigh Winsbury on lwinsbury@googlemail.com / 01837 810680
URL:https://stjohnshatherleigh.uk/event/bible-study-group-41/2025-07-31/
CATEGORIES:Bible Study Group
ATTACH;FMTTYPE=image/jpeg:https://stjohnshatherleigh.uk/wp-content/uploads/2022/02/Home_Group.jpg
END:VEVENT
END:VCALENDAR