BEGIN:VCALENDAR
VERSION:2.0
PRODID:-//St John The Baptist Church, Hatherleigh - ECPv6.15.20//NONSGML v1.0//EN
CALSCALE:GREGORIAN
METHOD:PUBLISH
X-ORIGINAL-URL:https://stjohnshatherleigh.uk
X-WR-CALDESC:Events for St John The Baptist Church, Hatherleigh
REFRESH-INTERVAL;VALUE=DURATION:PT1H
X-Robots-Tag:noindex
X-PUBLISHED-TTL:PT1H
BEGIN:VTIMEZONE
TZID:UTC
BEGIN:STANDARD
TZOFFSETFROM:+0000
TZOFFSETTO:+0000
TZNAME:UTC
DTSTART:20260101T000000
END:STANDARD
END:VTIMEZONE
BEGIN:VEVENT
DTSTART;TZID=UTC:20271130T083000
DTEND;TZID=UTC:20271130T120000
DTSTAMP:20260420T080527
CREATED:20220413T110735Z
LAST-MODIFIED:20230106T102723Z
UID:10001669-1827563400-1827576000@stjohnshatherleigh.uk
SUMMARY:Coffee Morning
DESCRIPTION:Coffee Morning\nThese coffee mornings\, happen at the same time as Hatherleigh market and provides a space to retreat for hot drinks and delicious food when you’ve done the shopping. Having run for many years\, they are a familiar drop in for many and provide a time and space to catch up with friends\, especially for those a bit isolated or living alone. \nThey are hosted by different groups each week who take the opportunity for fund raising for their own causes.
URL:https://stjohnshatherleigh.uk/event/coffee-morning-37/2027-11-30/
LOCATION:Old Schools\, Old Schools Building\, Hatherleigh\, Devon\, EX20 3JN\, United Kingdom
CATEGORIES:Coffee Morning
ATTACH;FMTTYPE=image/jpeg:https://stjohnshatherleigh.uk/wp-content/uploads/2022/03/coffee-and-walnut-cake-with-tea.jpeg
END:VEVENT
BEGIN:VEVENT
DTSTART;TZID=UTC:20271207T083000
DTEND;TZID=UTC:20271207T120000
DTSTAMP:20260420T080527
CREATED:20220413T110735Z
LAST-MODIFIED:20230106T102723Z
UID:10001670-1828168200-1828180800@stjohnshatherleigh.uk
SUMMARY:Coffee Morning
DESCRIPTION:Coffee Morning\nThese coffee mornings\, happen at the same time as Hatherleigh market and provides a space to retreat for hot drinks and delicious food when you’ve done the shopping. Having run for many years\, they are a familiar drop in for many and provide a time and space to catch up with friends\, especially for those a bit isolated or living alone. \nThey are hosted by different groups each week who take the opportunity for fund raising for their own causes.
URL:https://stjohnshatherleigh.uk/event/coffee-morning-37/2027-12-07/
LOCATION:Old Schools\, Old Schools Building\, Hatherleigh\, Devon\, EX20 3JN\, United Kingdom
CATEGORIES:Coffee Morning
ATTACH;FMTTYPE=image/jpeg:https://stjohnshatherleigh.uk/wp-content/uploads/2022/03/coffee-and-walnut-cake-with-tea.jpeg
END:VEVENT
BEGIN:VEVENT
DTSTART;TZID=UTC:20271214T083000
DTEND;TZID=UTC:20271214T120000
DTSTAMP:20260420T080527
CREATED:20220413T110735Z
LAST-MODIFIED:20230106T102723Z
UID:10001671-1828773000-1828785600@stjohnshatherleigh.uk
SUMMARY:Coffee Morning
DESCRIPTION:Coffee Morning\nThese coffee mornings\, happen at the same time as Hatherleigh market and provides a space to retreat for hot drinks and delicious food when you’ve done the shopping. Having run for many years\, they are a familiar drop in for many and provide a time and space to catch up with friends\, especially for those a bit isolated or living alone. \nThey are hosted by different groups each week who take the opportunity for fund raising for their own causes.
URL:https://stjohnshatherleigh.uk/event/coffee-morning-37/2027-12-14/
LOCATION:Old Schools\, Old Schools Building\, Hatherleigh\, Devon\, EX20 3JN\, United Kingdom
CATEGORIES:Coffee Morning
ATTACH;FMTTYPE=image/jpeg:https://stjohnshatherleigh.uk/wp-content/uploads/2022/03/coffee-and-walnut-cake-with-tea.jpeg
END:VEVENT
BEGIN:VEVENT
DTSTART;TZID=UTC:20271221T083000
DTEND;TZID=UTC:20271221T120000
DTSTAMP:20260420T080527
CREATED:20220413T110735Z
LAST-MODIFIED:20230106T102723Z
UID:10001672-1829377800-1829390400@stjohnshatherleigh.uk
SUMMARY:Coffee Morning
DESCRIPTION:Coffee Morning\nThese coffee mornings\, happen at the same time as Hatherleigh market and provides a space to retreat for hot drinks and delicious food when you’ve done the shopping. Having run for many years\, they are a familiar drop in for many and provide a time and space to catch up with friends\, especially for those a bit isolated or living alone. \nThey are hosted by different groups each week who take the opportunity for fund raising for their own causes.
URL:https://stjohnshatherleigh.uk/event/coffee-morning-37/2027-12-21/
LOCATION:Old Schools\, Old Schools Building\, Hatherleigh\, Devon\, EX20 3JN\, United Kingdom
CATEGORIES:Coffee Morning
ATTACH;FMTTYPE=image/jpeg:https://stjohnshatherleigh.uk/wp-content/uploads/2022/03/coffee-and-walnut-cake-with-tea.jpeg
END:VEVENT
BEGIN:VEVENT
DTSTART;TZID=UTC:20271228T083000
DTEND;TZID=UTC:20271228T120000
DTSTAMP:20260420T080527
CREATED:20220413T110735Z
LAST-MODIFIED:20230106T102723Z
UID:10001673-1829982600-1829995200@stjohnshatherleigh.uk
SUMMARY:Coffee Morning
DESCRIPTION:Coffee Morning\nThese coffee mornings\, happen at the same time as Hatherleigh market and provides a space to retreat for hot drinks and delicious food when you’ve done the shopping. Having run for many years\, they are a familiar drop in for many and provide a time and space to catch up with friends\, especially for those a bit isolated or living alone. \nThey are hosted by different groups each week who take the opportunity for fund raising for their own causes.
URL:https://stjohnshatherleigh.uk/event/coffee-morning-37/2027-12-28/
LOCATION:Old Schools\, Old Schools Building\, Hatherleigh\, Devon\, EX20 3JN\, United Kingdom
CATEGORIES:Coffee Morning
ATTACH;FMTTYPE=image/jpeg:https://stjohnshatherleigh.uk/wp-content/uploads/2022/03/coffee-and-walnut-cake-with-tea.jpeg
END:VEVENT
BEGIN:VEVENT
DTSTART;TZID=UTC:20280104T083000
DTEND;TZID=UTC:20280104T120000
DTSTAMP:20260420T080527
CREATED:20220413T110735Z
LAST-MODIFIED:20230106T102723Z
UID:10001674-1830587400-1830600000@stjohnshatherleigh.uk
SUMMARY:Coffee Morning
DESCRIPTION:Coffee Morning\nThese coffee mornings\, happen at the same time as Hatherleigh market and provides a space to retreat for hot drinks and delicious food when you’ve done the shopping. Having run for many years\, they are a familiar drop in for many and provide a time and space to catch up with friends\, especially for those a bit isolated or living alone. \nThey are hosted by different groups each week who take the opportunity for fund raising for their own causes.
URL:https://stjohnshatherleigh.uk/event/coffee-morning-37/2028-01-04/
LOCATION:Old Schools\, Old Schools Building\, Hatherleigh\, Devon\, EX20 3JN\, United Kingdom
CATEGORIES:Coffee Morning
ATTACH;FMTTYPE=image/jpeg:https://stjohnshatherleigh.uk/wp-content/uploads/2022/03/coffee-and-walnut-cake-with-tea.jpeg
END:VEVENT
END:VCALENDAR