BEGIN:VCALENDAR
VERSION:2.0
PRODID:-//St John The Baptist Church, Hatherleigh - ECPv6.15.20//NONSGML v1.0//EN
CALSCALE:GREGORIAN
METHOD:PUBLISH
X-WR-CALNAME:St John The Baptist Church, Hatherleigh
X-ORIGINAL-URL:https://stjohnshatherleigh.uk
X-WR-CALDESC:Events for St John The Baptist Church, Hatherleigh
REFRESH-INTERVAL;VALUE=DURATION:PT1H
X-Robots-Tag:noindex
X-PUBLISHED-TTL:PT1H
BEGIN:VTIMEZONE
TZID:UTC
BEGIN:STANDARD
TZOFFSETFROM:+0000
TZOFFSETTO:+0000
TZNAME:UTC
DTSTART:20250101T000000
END:STANDARD
END:VTIMEZONE
BEGIN:VTIMEZONE
TZID:Europe/London
BEGIN:DAYLIGHT
TZOFFSETFROM:+0000
TZOFFSETTO:+0100
TZNAME:BST
DTSTART:20250330T010000
END:DAYLIGHT
BEGIN:STANDARD
TZOFFSETFROM:+0100
TZOFFSETTO:+0000
TZNAME:GMT
DTSTART:20251026T010000
END:STANDARD
BEGIN:DAYLIGHT
TZOFFSETFROM:+0000
TZOFFSETTO:+0100
TZNAME:BST
DTSTART:20260329T010000
END:DAYLIGHT
BEGIN:STANDARD
TZOFFSETFROM:+0100
TZOFFSETTO:+0000
TZNAME:GMT
DTSTART:20261025T010000
END:STANDARD
BEGIN:DAYLIGHT
TZOFFSETFROM:+0000
TZOFFSETTO:+0100
TZNAME:BST
DTSTART:20270328T010000
END:DAYLIGHT
BEGIN:STANDARD
TZOFFSETFROM:+0100
TZOFFSETTO:+0000
TZNAME:GMT
DTSTART:20271031T010000
END:STANDARD
END:VTIMEZONE
BEGIN:VEVENT
DTSTART;TZID=UTC:20260305T190000
DTEND;TZID=UTC:20260305T210000
DTSTAMP:20260419T153215
CREATED:20220609T132939Z
LAST-MODIFIED:20230106T102610Z
UID:10001316-1772737200-1772744400@stjohnshatherleigh.uk
SUMMARY:Youth Café
DESCRIPTION:Youth Café\nRun in the ‘Old Schools’ building in Hatherleigh Square\, every Thursday evening. \nCompletely free for ages 13-18\, this includes\, hot and cold food\, table top games\, pool table and Wii\, but mostly\, fun and friendship in a safe\, nurturing environment overseen by our fully trained and vetted team drawn from Hatherleigh’s three churches.
URL:https://stjohnshatherleigh.uk/event/youth-cafe-39/2026-03-05/
LOCATION:Old Schools\, Old Schools Building\, Hatherleigh\, Devon\, EX20 3JN\, United Kingdom
CATEGORIES:Community Groups
ATTACH;FMTTYPE=image/jpeg:https://stjohnshatherleigh.uk/wp-content/uploads/2022/03/DSC_0310-scaled.jpg
ORGANIZER;CN="Leigh Winsbury":MAILTO:lwinsbury@googlemail.com
END:VEVENT
BEGIN:VEVENT
DTSTART;TZID=Europe/London:20260307T083000
DTEND;TZID=Europe/London:20260307T103000
DTSTAMP:20260419T153215
CREATED:20250110T125223Z
LAST-MODIFIED:20250110T125223Z
UID:10002757-1772872200-1772879400@stjohnshatherleigh.uk
SUMMARY:Saturdads
DESCRIPTION:Saturdads \nThis is held in The Old Schools. It is a time for dads\, grandads and male carers to spend with their children. Bacon butties and tea/coffee & soft drinks  provided! There will be a range of toys and activities in the hall.
URL:https://stjohnshatherleigh.uk/event/saturdads/2026-03-07/
LOCATION:Old Schools\, Old Schools Building\, Hatherleigh\, Devon\, EX20 3JN\, United Kingdom
CATEGORIES:Community Groups,Youth / Children
END:VEVENT
BEGIN:VEVENT
DTSTART;TZID=Europe/London:20260311T110000
DTEND;TZID=Europe/London:20260311T123000
DTSTAMP:20260419T153215
CREATED:20250110T133314Z
LAST-MODIFIED:20250112T153513Z
UID:10002879-1773226800-1773232200@stjohnshatherleigh.uk
SUMMARY:Carers R Us
DESCRIPTION:This is a place to meet each month for carers. We drink tea & coffee\, eat cake and support each other in a friendly and supportive atmosphere. . It is held on the second Wednesday of each month. It is from 11am to 12pm  in the Old Schools.
URL:https://stjohnshatherleigh.uk/event/carersrus/2026-03-11/
CATEGORIES:Community Groups
END:VEVENT
BEGIN:VEVENT
DTSTART;TZID=UTC:20260312T190000
DTEND;TZID=UTC:20260312T210000
DTSTAMP:20260419T153215
CREATED:20220609T132939Z
LAST-MODIFIED:20230106T102610Z
UID:10001317-1773342000-1773349200@stjohnshatherleigh.uk
SUMMARY:Youth Café
DESCRIPTION:Youth Café\nRun in the ‘Old Schools’ building in Hatherleigh Square\, every Thursday evening. \nCompletely free for ages 13-18\, this includes\, hot and cold food\, table top games\, pool table and Wii\, but mostly\, fun and friendship in a safe\, nurturing environment overseen by our fully trained and vetted team drawn from Hatherleigh’s three churches.
URL:https://stjohnshatherleigh.uk/event/youth-cafe-39/2026-03-12/
LOCATION:Old Schools\, Old Schools Building\, Hatherleigh\, Devon\, EX20 3JN\, United Kingdom
CATEGORIES:Community Groups
ATTACH;FMTTYPE=image/jpeg:https://stjohnshatherleigh.uk/wp-content/uploads/2022/03/DSC_0310-scaled.jpg
ORGANIZER;CN="Leigh Winsbury":MAILTO:lwinsbury@googlemail.com
END:VEVENT
BEGIN:VEVENT
DTSTART;TZID=UTC:20260319T190000
DTEND;TZID=UTC:20260319T210000
DTSTAMP:20260419T153215
CREATED:20220609T132939Z
LAST-MODIFIED:20230106T102610Z
UID:10001318-1773946800-1773954000@stjohnshatherleigh.uk
SUMMARY:Youth Café
DESCRIPTION:Youth Café\nRun in the ‘Old Schools’ building in Hatherleigh Square\, every Thursday evening. \nCompletely free for ages 13-18\, this includes\, hot and cold food\, table top games\, pool table and Wii\, but mostly\, fun and friendship in a safe\, nurturing environment overseen by our fully trained and vetted team drawn from Hatherleigh’s three churches.
URL:https://stjohnshatherleigh.uk/event/youth-cafe-39/2026-03-19/
LOCATION:Old Schools\, Old Schools Building\, Hatherleigh\, Devon\, EX20 3JN\, United Kingdom
CATEGORIES:Community Groups
ATTACH;FMTTYPE=image/jpeg:https://stjohnshatherleigh.uk/wp-content/uploads/2022/03/DSC_0310-scaled.jpg
ORGANIZER;CN="Leigh Winsbury":MAILTO:lwinsbury@googlemail.com
END:VEVENT
BEGIN:VEVENT
DTSTART;TZID=UTC:20260326T190000
DTEND;TZID=UTC:20260326T210000
DTSTAMP:20260419T153215
CREATED:20220609T132939Z
LAST-MODIFIED:20230106T102610Z
UID:10001319-1774551600-1774558800@stjohnshatherleigh.uk
SUMMARY:Youth Café
DESCRIPTION:Youth Café\nRun in the ‘Old Schools’ building in Hatherleigh Square\, every Thursday evening. \nCompletely free for ages 13-18\, this includes\, hot and cold food\, table top games\, pool table and Wii\, but mostly\, fun and friendship in a safe\, nurturing environment overseen by our fully trained and vetted team drawn from Hatherleigh’s three churches.
URL:https://stjohnshatherleigh.uk/event/youth-cafe-39/2026-03-26/
LOCATION:Old Schools\, Old Schools Building\, Hatherleigh\, Devon\, EX20 3JN\, United Kingdom
CATEGORIES:Community Groups
ATTACH;FMTTYPE=image/jpeg:https://stjohnshatherleigh.uk/wp-content/uploads/2022/03/DSC_0310-scaled.jpg
ORGANIZER;CN="Leigh Winsbury":MAILTO:lwinsbury@googlemail.com
END:VEVENT
END:VCALENDAR