BEGIN:VCALENDAR
VERSION:2.0
PRODID:-//St John The Baptist Church, Hatherleigh - ECPv6.15.20//NONSGML v1.0//EN
CALSCALE:GREGORIAN
METHOD:PUBLISH
X-ORIGINAL-URL:https://stjohnshatherleigh.uk
X-WR-CALDESC:Events for St John The Baptist Church, Hatherleigh
REFRESH-INTERVAL;VALUE=DURATION:PT1H
X-Robots-Tag:noindex
X-PUBLISHED-TTL:PT1H
BEGIN:VTIMEZONE
TZID:UTC
BEGIN:STANDARD
TZOFFSETFROM:+0000
TZOFFSETTO:+0000
TZNAME:UTC
DTSTART:20270101T000000
END:STANDARD
END:VTIMEZONE
BEGIN:VTIMEZONE
TZID:Europe/London
BEGIN:DAYLIGHT
TZOFFSETFROM:+0000
TZOFFSETTO:+0100
TZNAME:BST
DTSTART:20270328T010000
END:DAYLIGHT
BEGIN:STANDARD
TZOFFSETFROM:+0100
TZOFFSETTO:+0000
TZNAME:GMT
DTSTART:20271031T010000
END:STANDARD
BEGIN:DAYLIGHT
TZOFFSETFROM:+0000
TZOFFSETTO:+0100
TZNAME:BST
DTSTART:20280326T010000
END:DAYLIGHT
BEGIN:STANDARD
TZOFFSETFROM:+0100
TZOFFSETTO:+0000
TZNAME:GMT
DTSTART:20281029T010000
END:STANDARD
BEGIN:DAYLIGHT
TZOFFSETFROM:+0000
TZOFFSETTO:+0100
TZNAME:BST
DTSTART:20290325T010000
END:DAYLIGHT
BEGIN:STANDARD
TZOFFSETFROM:+0100
TZOFFSETTO:+0000
TZNAME:GMT
DTSTART:20291028T010000
END:STANDARD
BEGIN:DAYLIGHT
TZOFFSETFROM:+0000
TZOFFSETTO:+0100
TZNAME:BST
DTSTART:20300331T010000
END:DAYLIGHT
BEGIN:STANDARD
TZOFFSETFROM:+0100
TZOFFSETTO:+0000
TZNAME:GMT
DTSTART:20301027T010000
END:STANDARD
END:VTIMEZONE
BEGIN:VEVENT
DTSTART;TZID=UTC:20280106T190000
DTEND;TZID=UTC:20280106T210000
DTSTAMP:20260419T125906
CREATED:20220609T132939Z
LAST-MODIFIED:20230106T102610Z
UID:10001412-1830798000-1830805200@stjohnshatherleigh.uk
SUMMARY:Youth Café
DESCRIPTION:Youth Café\nRun in the ‘Old Schools’ building in Hatherleigh Square\, every Thursday evening. \nCompletely free for ages 13-18\, this includes\, hot and cold food\, table top games\, pool table and Wii\, but mostly\, fun and friendship in a safe\, nurturing environment overseen by our fully trained and vetted team drawn from Hatherleigh’s three churches.
URL:https://stjohnshatherleigh.uk/event/youth-cafe-39/2028-01-06/
LOCATION:Old Schools\, Old Schools Building\, Hatherleigh\, Devon\, EX20 3JN\, United Kingdom
CATEGORIES:Community Groups
ATTACH;FMTTYPE=image/jpeg:https://stjohnshatherleigh.uk/wp-content/uploads/2022/03/DSC_0310-scaled.jpg
ORGANIZER;CN="Leigh Winsbury":MAILTO:lwinsbury@googlemail.com
END:VEVENT
BEGIN:VEVENT
DTSTART;TZID=Europe/London:20280112T110000
DTEND;TZID=Europe/London:20280112T123000
DTSTAMP:20260419T125906
CREATED:20250110T133314Z
LAST-MODIFIED:20250112T153513Z
UID:10002901-1831287600-1831293000@stjohnshatherleigh.uk
SUMMARY:Carers R Us
DESCRIPTION:This is a place to meet each month for carers. We drink tea & coffee\, eat cake and support each other in a friendly and supportive atmosphere. . It is held on the second Wednesday of each month. It is from 11am to 12pm  in the Old Schools.
URL:https://stjohnshatherleigh.uk/event/carersrus/2028-01-12/
LOCATION:Devon
CATEGORIES:Community Groups
END:VEVENT
BEGIN:VEVENT
DTSTART;TZID=Europe/London:20280205T083000
DTEND;TZID=Europe/London:20280205T103000
DTSTAMP:20260419T125906
CREATED:20250110T125223Z
LAST-MODIFIED:20250110T125223Z
UID:10002780-1833352200-1833359400@stjohnshatherleigh.uk
SUMMARY:Saturdads
DESCRIPTION:Saturdads \nThis is held in The Old Schools. It is a time for dads\, grandads and male carers to spend with their children. Bacon butties and tea/coffee & soft drinks  provided! There will be a range of toys and activities in the hall.
URL:https://stjohnshatherleigh.uk/event/saturdads/2028-02-05/
LOCATION:Old Schools\, Old Schools Building\, Hatherleigh\, Devon\, EX20 3JN\, United Kingdom
CATEGORIES:Community Groups,Youth / Children
END:VEVENT
BEGIN:VEVENT
DTSTART;TZID=Europe/London:20280209T110000
DTEND;TZID=Europe/London:20280209T123000
DTSTAMP:20260419T125906
CREATED:20250110T133314Z
LAST-MODIFIED:20250112T153513Z
UID:10002902-1833706800-1833712200@stjohnshatherleigh.uk
SUMMARY:Carers R Us
DESCRIPTION:This is a place to meet each month for carers. We drink tea & coffee\, eat cake and support each other in a friendly and supportive atmosphere. . It is held on the second Wednesday of each month. It is from 11am to 12pm  in the Old Schools.
URL:https://stjohnshatherleigh.uk/event/carersrus/2028-02-09/
LOCATION:Devon
CATEGORIES:Community Groups
END:VEVENT
BEGIN:VEVENT
DTSTART;TZID=Europe/London:20280304T083000
DTEND;TZID=Europe/London:20280304T103000
DTSTAMP:20260419T125906
CREATED:20250110T125223Z
LAST-MODIFIED:20250110T125223Z
UID:10002781-1835771400-1835778600@stjohnshatherleigh.uk
SUMMARY:Saturdads
DESCRIPTION:Saturdads \nThis is held in The Old Schools. It is a time for dads\, grandads and male carers to spend with their children. Bacon butties and tea/coffee & soft drinks  provided! There will be a range of toys and activities in the hall.
URL:https://stjohnshatherleigh.uk/event/saturdads/2028-03-04/
LOCATION:Old Schools\, Old Schools Building\, Hatherleigh\, Devon\, EX20 3JN\, United Kingdom
CATEGORIES:Community Groups,Youth / Children
END:VEVENT
BEGIN:VEVENT
DTSTART;TZID=Europe/London:20280308T110000
DTEND;TZID=Europe/London:20280308T123000
DTSTAMP:20260419T125906
CREATED:20250110T133314Z
LAST-MODIFIED:20250112T153513Z
UID:10002903-1836126000-1836131400@stjohnshatherleigh.uk
SUMMARY:Carers R Us
DESCRIPTION:This is a place to meet each month for carers. We drink tea & coffee\, eat cake and support each other in a friendly and supportive atmosphere. . It is held on the second Wednesday of each month. It is from 11am to 12pm  in the Old Schools.
URL:https://stjohnshatherleigh.uk/event/carersrus/2028-03-08/
LOCATION:Devon
CATEGORIES:Community Groups
END:VEVENT
BEGIN:VEVENT
DTSTART;TZID=Europe/London:20280401T083000
DTEND;TZID=Europe/London:20280401T103000
DTSTAMP:20260419T125906
CREATED:20250110T125223Z
LAST-MODIFIED:20250110T125223Z
UID:10002782-1838190600-1838197800@stjohnshatherleigh.uk
SUMMARY:Saturdads
DESCRIPTION:Saturdads \nThis is held in The Old Schools. It is a time for dads\, grandads and male carers to spend with their children. Bacon butties and tea/coffee & soft drinks  provided! There will be a range of toys and activities in the hall.
URL:https://stjohnshatherleigh.uk/event/saturdads/2028-04-01/
LOCATION:Old Schools\, Old Schools Building\, Hatherleigh\, Devon\, EX20 3JN\, United Kingdom
CATEGORIES:Community Groups,Youth / Children
END:VEVENT
BEGIN:VEVENT
DTSTART;TZID=Europe/London:20280412T110000
DTEND;TZID=Europe/London:20280412T123000
DTSTAMP:20260419T125906
CREATED:20250110T133314Z
LAST-MODIFIED:20250112T153513Z
UID:10002904-1839150000-1839155400@stjohnshatherleigh.uk
SUMMARY:Carers R Us
DESCRIPTION:This is a place to meet each month for carers. We drink tea & coffee\, eat cake and support each other in a friendly and supportive atmosphere. . It is held on the second Wednesday of each month. It is from 11am to 12pm  in the Old Schools.
URL:https://stjohnshatherleigh.uk/event/carersrus/2028-04-12/
LOCATION:Devon
CATEGORIES:Community Groups
END:VEVENT
BEGIN:VEVENT
DTSTART;TZID=Europe/London:20280506T083000
DTEND;TZID=Europe/London:20280506T103000
DTSTAMP:20260419T125906
CREATED:20250110T125223Z
LAST-MODIFIED:20250110T125223Z
UID:10002783-1841214600-1841221800@stjohnshatherleigh.uk
SUMMARY:Saturdads
DESCRIPTION:Saturdads \nThis is held in The Old Schools. It is a time for dads\, grandads and male carers to spend with their children. Bacon butties and tea/coffee & soft drinks  provided! There will be a range of toys and activities in the hall.
URL:https://stjohnshatherleigh.uk/event/saturdads/2028-05-06/
LOCATION:Old Schools\, Old Schools Building\, Hatherleigh\, Devon\, EX20 3JN\, United Kingdom
CATEGORIES:Community Groups,Youth / Children
END:VEVENT
BEGIN:VEVENT
DTSTART;TZID=Europe/London:20280510T110000
DTEND;TZID=Europe/London:20280510T123000
DTSTAMP:20260419T125906
CREATED:20250110T133314Z
LAST-MODIFIED:20250112T153513Z
UID:10002905-1841569200-1841574600@stjohnshatherleigh.uk
SUMMARY:Carers R Us
DESCRIPTION:This is a place to meet each month for carers. We drink tea & coffee\, eat cake and support each other in a friendly and supportive atmosphere. . It is held on the second Wednesday of each month. It is from 11am to 12pm  in the Old Schools.
URL:https://stjohnshatherleigh.uk/event/carersrus/2028-05-10/
LOCATION:Devon
CATEGORIES:Community Groups
END:VEVENT
BEGIN:VEVENT
DTSTART;TZID=Europe/London:20280603T083000
DTEND;TZID=Europe/London:20280603T103000
DTSTAMP:20260419T125906
CREATED:20250110T125223Z
LAST-MODIFIED:20250110T125223Z
UID:10002784-1843633800-1843641000@stjohnshatherleigh.uk
SUMMARY:Saturdads
DESCRIPTION:Saturdads \nThis is held in The Old Schools. It is a time for dads\, grandads and male carers to spend with their children. Bacon butties and tea/coffee & soft drinks  provided! There will be a range of toys and activities in the hall.
URL:https://stjohnshatherleigh.uk/event/saturdads/2028-06-03/
LOCATION:Old Schools\, Old Schools Building\, Hatherleigh\, Devon\, EX20 3JN\, United Kingdom
CATEGORIES:Community Groups,Youth / Children
END:VEVENT
BEGIN:VEVENT
DTSTART;TZID=Europe/London:20280614T110000
DTEND;TZID=Europe/London:20280614T123000
DTSTAMP:20260419T125906
CREATED:20250110T133314Z
LAST-MODIFIED:20250112T153513Z
UID:10002906-1844593200-1844598600@stjohnshatherleigh.uk
SUMMARY:Carers R Us
DESCRIPTION:This is a place to meet each month for carers. We drink tea & coffee\, eat cake and support each other in a friendly and supportive atmosphere. . It is held on the second Wednesday of each month. It is from 11am to 12pm  in the Old Schools.
URL:https://stjohnshatherleigh.uk/event/carersrus/2028-06-14/
LOCATION:Devon
CATEGORIES:Community Groups
END:VEVENT
BEGIN:VEVENT
DTSTART;TZID=Europe/London:20280701T083000
DTEND;TZID=Europe/London:20280701T103000
DTSTAMP:20260419T125906
CREATED:20250110T125223Z
LAST-MODIFIED:20250110T125223Z
UID:10002785-1846053000-1846060200@stjohnshatherleigh.uk
SUMMARY:Saturdads
DESCRIPTION:Saturdads \nThis is held in The Old Schools. It is a time for dads\, grandads and male carers to spend with their children. Bacon butties and tea/coffee & soft drinks  provided! There will be a range of toys and activities in the hall.
URL:https://stjohnshatherleigh.uk/event/saturdads/2028-07-01/
LOCATION:Old Schools\, Old Schools Building\, Hatherleigh\, Devon\, EX20 3JN\, United Kingdom
CATEGORIES:Community Groups,Youth / Children
END:VEVENT
BEGIN:VEVENT
DTSTART;TZID=Europe/London:20280712T110000
DTEND;TZID=Europe/London:20280712T123000
DTSTAMP:20260419T125906
CREATED:20250110T133314Z
LAST-MODIFIED:20250112T153513Z
UID:10002907-1847012400-1847017800@stjohnshatherleigh.uk
SUMMARY:Carers R Us
DESCRIPTION:This is a place to meet each month for carers. We drink tea & coffee\, eat cake and support each other in a friendly and supportive atmosphere. . It is held on the second Wednesday of each month. It is from 11am to 12pm  in the Old Schools.
URL:https://stjohnshatherleigh.uk/event/carersrus/2028-07-12/
LOCATION:Devon
CATEGORIES:Community Groups
END:VEVENT
BEGIN:VEVENT
DTSTART;TZID=Europe/London:20280805T083000
DTEND;TZID=Europe/London:20280805T103000
DTSTAMP:20260419T125906
CREATED:20250110T125223Z
LAST-MODIFIED:20250110T125223Z
UID:10002786-1849077000-1849084200@stjohnshatherleigh.uk
SUMMARY:Saturdads
DESCRIPTION:Saturdads \nThis is held in The Old Schools. It is a time for dads\, grandads and male carers to spend with their children. Bacon butties and tea/coffee & soft drinks  provided! There will be a range of toys and activities in the hall.
URL:https://stjohnshatherleigh.uk/event/saturdads/2028-08-05/
LOCATION:Old Schools\, Old Schools Building\, Hatherleigh\, Devon\, EX20 3JN\, United Kingdom
CATEGORIES:Community Groups,Youth / Children
END:VEVENT
BEGIN:VEVENT
DTSTART;TZID=Europe/London:20280809T110000
DTEND;TZID=Europe/London:20280809T123000
DTSTAMP:20260419T125906
CREATED:20250110T133314Z
LAST-MODIFIED:20250112T153513Z
UID:10002908-1849431600-1849437000@stjohnshatherleigh.uk
SUMMARY:Carers R Us
DESCRIPTION:This is a place to meet each month for carers. We drink tea & coffee\, eat cake and support each other in a friendly and supportive atmosphere. . It is held on the second Wednesday of each month. It is from 11am to 12pm  in the Old Schools.
URL:https://stjohnshatherleigh.uk/event/carersrus/2028-08-09/
LOCATION:Devon
CATEGORIES:Community Groups
END:VEVENT
BEGIN:VEVENT
DTSTART;TZID=Europe/London:20280902T083000
DTEND;TZID=Europe/London:20280902T103000
DTSTAMP:20260419T125906
CREATED:20250110T125223Z
LAST-MODIFIED:20250110T125223Z
UID:10002787-1851496200-1851503400@stjohnshatherleigh.uk
SUMMARY:Saturdads
DESCRIPTION:Saturdads \nThis is held in The Old Schools. It is a time for dads\, grandads and male carers to spend with their children. Bacon butties and tea/coffee & soft drinks  provided! There will be a range of toys and activities in the hall.
URL:https://stjohnshatherleigh.uk/event/saturdads/2028-09-02/
LOCATION:Old Schools\, Old Schools Building\, Hatherleigh\, Devon\, EX20 3JN\, United Kingdom
CATEGORIES:Community Groups,Youth / Children
END:VEVENT
BEGIN:VEVENT
DTSTART;TZID=Europe/London:20280913T110000
DTEND;TZID=Europe/London:20280913T123000
DTSTAMP:20260419T125906
CREATED:20250110T133314Z
LAST-MODIFIED:20250112T153513Z
UID:10002909-1852455600-1852461000@stjohnshatherleigh.uk
SUMMARY:Carers R Us
DESCRIPTION:This is a place to meet each month for carers. We drink tea & coffee\, eat cake and support each other in a friendly and supportive atmosphere. . It is held on the second Wednesday of each month. It is from 11am to 12pm  in the Old Schools.
URL:https://stjohnshatherleigh.uk/event/carersrus/2028-09-13/
LOCATION:Devon
CATEGORIES:Community Groups
END:VEVENT
BEGIN:VEVENT
DTSTART;TZID=Europe/London:20281007T083000
DTEND;TZID=Europe/London:20281007T103000
DTSTAMP:20260419T125906
CREATED:20250110T125223Z
LAST-MODIFIED:20250110T125223Z
UID:10002788-1854520200-1854527400@stjohnshatherleigh.uk
SUMMARY:Saturdads
DESCRIPTION:Saturdads \nThis is held in The Old Schools. It is a time for dads\, grandads and male carers to spend with their children. Bacon butties and tea/coffee & soft drinks  provided! There will be a range of toys and activities in the hall.
URL:https://stjohnshatherleigh.uk/event/saturdads/2028-10-07/
LOCATION:Old Schools\, Old Schools Building\, Hatherleigh\, Devon\, EX20 3JN\, United Kingdom
CATEGORIES:Community Groups,Youth / Children
END:VEVENT
BEGIN:VEVENT
DTSTART;TZID=Europe/London:20281011T110000
DTEND;TZID=Europe/London:20281011T123000
DTSTAMP:20260419T125906
CREATED:20250110T133314Z
LAST-MODIFIED:20250112T153513Z
UID:10002910-1854874800-1854880200@stjohnshatherleigh.uk
SUMMARY:Carers R Us
DESCRIPTION:This is a place to meet each month for carers. We drink tea & coffee\, eat cake and support each other in a friendly and supportive atmosphere. . It is held on the second Wednesday of each month. It is from 11am to 12pm  in the Old Schools.
URL:https://stjohnshatherleigh.uk/event/carersrus/2028-10-11/
LOCATION:Devon
CATEGORIES:Community Groups
END:VEVENT
BEGIN:VEVENT
DTSTART;TZID=Europe/London:20281104T083000
DTEND;TZID=Europe/London:20281104T103000
DTSTAMP:20260419T125906
CREATED:20250110T125223Z
LAST-MODIFIED:20250110T125223Z
UID:10002789-1856939400-1856946600@stjohnshatherleigh.uk
SUMMARY:Saturdads
DESCRIPTION:Saturdads \nThis is held in The Old Schools. It is a time for dads\, grandads and male carers to spend with their children. Bacon butties and tea/coffee & soft drinks  provided! There will be a range of toys and activities in the hall.
URL:https://stjohnshatherleigh.uk/event/saturdads/2028-11-04/
LOCATION:Old Schools\, Old Schools Building\, Hatherleigh\, Devon\, EX20 3JN\, United Kingdom
CATEGORIES:Community Groups,Youth / Children
END:VEVENT
BEGIN:VEVENT
DTSTART;TZID=Europe/London:20281108T110000
DTEND;TZID=Europe/London:20281108T123000
DTSTAMP:20260419T125906
CREATED:20250110T133314Z
LAST-MODIFIED:20250112T153513Z
UID:10002911-1857294000-1857299400@stjohnshatherleigh.uk
SUMMARY:Carers R Us
DESCRIPTION:This is a place to meet each month for carers. We drink tea & coffee\, eat cake and support each other in a friendly and supportive atmosphere. . It is held on the second Wednesday of each month. It is from 11am to 12pm  in the Old Schools.
URL:https://stjohnshatherleigh.uk/event/carersrus/2028-11-08/
LOCATION:Devon
CATEGORIES:Community Groups
END:VEVENT
BEGIN:VEVENT
DTSTART;TZID=Europe/London:20281202T083000
DTEND;TZID=Europe/London:20281202T103000
DTSTAMP:20260419T125906
CREATED:20250110T125223Z
LAST-MODIFIED:20250110T125223Z
UID:10002790-1859358600-1859365800@stjohnshatherleigh.uk
SUMMARY:Saturdads
DESCRIPTION:Saturdads \nThis is held in The Old Schools. It is a time for dads\, grandads and male carers to spend with their children. Bacon butties and tea/coffee & soft drinks  provided! There will be a range of toys and activities in the hall.
URL:https://stjohnshatherleigh.uk/event/saturdads/2028-12-02/
LOCATION:Old Schools\, Old Schools Building\, Hatherleigh\, Devon\, EX20 3JN\, United Kingdom
CATEGORIES:Community Groups,Youth / Children
END:VEVENT
BEGIN:VEVENT
DTSTART;TZID=Europe/London:20281213T110000
DTEND;TZID=Europe/London:20281213T123000
DTSTAMP:20260419T125906
CREATED:20250110T133314Z
LAST-MODIFIED:20250112T153513Z
UID:10002912-1860318000-1860323400@stjohnshatherleigh.uk
SUMMARY:Carers R Us
DESCRIPTION:This is a place to meet each month for carers. We drink tea & coffee\, eat cake and support each other in a friendly and supportive atmosphere. . It is held on the second Wednesday of each month. It is from 11am to 12pm  in the Old Schools.
URL:https://stjohnshatherleigh.uk/event/carersrus/2028-12-13/
LOCATION:Devon
CATEGORIES:Community Groups
END:VEVENT
BEGIN:VEVENT
DTSTART;TZID=Europe/London:20290106T083000
DTEND;TZID=Europe/London:20290106T103000
DTSTAMP:20260419T125906
CREATED:20250110T125223Z
LAST-MODIFIED:20250110T125223Z
UID:10002791-1862382600-1862389800@stjohnshatherleigh.uk
SUMMARY:Saturdads
DESCRIPTION:Saturdads \nThis is held in The Old Schools. It is a time for dads\, grandads and male carers to spend with their children. Bacon butties and tea/coffee & soft drinks  provided! There will be a range of toys and activities in the hall.
URL:https://stjohnshatherleigh.uk/event/saturdads/2029-01-06/
LOCATION:Old Schools\, Old Schools Building\, Hatherleigh\, Devon\, EX20 3JN\, United Kingdom
CATEGORIES:Community Groups,Youth / Children
END:VEVENT
BEGIN:VEVENT
DTSTART;TZID=Europe/London:20290110T110000
DTEND;TZID=Europe/London:20290110T123000
DTSTAMP:20260419T125906
CREATED:20250110T133314Z
LAST-MODIFIED:20250112T153513Z
UID:10002913-1862737200-1862742600@stjohnshatherleigh.uk
SUMMARY:Carers R Us
DESCRIPTION:This is a place to meet each month for carers. We drink tea & coffee\, eat cake and support each other in a friendly and supportive atmosphere. . It is held on the second Wednesday of each month. It is from 11am to 12pm  in the Old Schools.
URL:https://stjohnshatherleigh.uk/event/carersrus/2029-01-10/
LOCATION:Devon
CATEGORIES:Community Groups
END:VEVENT
BEGIN:VEVENT
DTSTART;TZID=Europe/London:20290203T083000
DTEND;TZID=Europe/London:20290203T103000
DTSTAMP:20260419T125906
CREATED:20250110T125223Z
LAST-MODIFIED:20250110T125223Z
UID:10002792-1864801800-1864809000@stjohnshatherleigh.uk
SUMMARY:Saturdads
DESCRIPTION:Saturdads \nThis is held in The Old Schools. It is a time for dads\, grandads and male carers to spend with their children. Bacon butties and tea/coffee & soft drinks  provided! There will be a range of toys and activities in the hall.
URL:https://stjohnshatherleigh.uk/event/saturdads/2029-02-03/
LOCATION:Old Schools\, Old Schools Building\, Hatherleigh\, Devon\, EX20 3JN\, United Kingdom
CATEGORIES:Community Groups,Youth / Children
END:VEVENT
BEGIN:VEVENT
DTSTART;TZID=Europe/London:20290214T110000
DTEND;TZID=Europe/London:20290214T123000
DTSTAMP:20260419T125906
CREATED:20250110T133314Z
LAST-MODIFIED:20250112T153513Z
UID:10002914-1865761200-1865766600@stjohnshatherleigh.uk
SUMMARY:Carers R Us
DESCRIPTION:This is a place to meet each month for carers. We drink tea & coffee\, eat cake and support each other in a friendly and supportive atmosphere. . It is held on the second Wednesday of each month. It is from 11am to 12pm  in the Old Schools.
URL:https://stjohnshatherleigh.uk/event/carersrus/2029-02-14/
LOCATION:Devon
CATEGORIES:Community Groups
END:VEVENT
BEGIN:VEVENT
DTSTART;TZID=Europe/London:20290303T083000
DTEND;TZID=Europe/London:20290303T103000
DTSTAMP:20260419T125906
CREATED:20250110T125223Z
LAST-MODIFIED:20250110T125223Z
UID:10002793-1867221000-1867228200@stjohnshatherleigh.uk
SUMMARY:Saturdads
DESCRIPTION:Saturdads \nThis is held in The Old Schools. It is a time for dads\, grandads and male carers to spend with their children. Bacon butties and tea/coffee & soft drinks  provided! There will be a range of toys and activities in the hall.
URL:https://stjohnshatherleigh.uk/event/saturdads/2029-03-03/
LOCATION:Old Schools\, Old Schools Building\, Hatherleigh\, Devon\, EX20 3JN\, United Kingdom
CATEGORIES:Community Groups,Youth / Children
END:VEVENT
BEGIN:VEVENT
DTSTART;TZID=Europe/London:20290314T110000
DTEND;TZID=Europe/London:20290314T123000
DTSTAMP:20260419T125906
CREATED:20250110T133314Z
LAST-MODIFIED:20250112T153513Z
UID:10002915-1868180400-1868185800@stjohnshatherleigh.uk
SUMMARY:Carers R Us
DESCRIPTION:This is a place to meet each month for carers. We drink tea & coffee\, eat cake and support each other in a friendly and supportive atmosphere. . It is held on the second Wednesday of each month. It is from 11am to 12pm  in the Old Schools.
URL:https://stjohnshatherleigh.uk/event/carersrus/2029-03-14/
LOCATION:Devon
CATEGORIES:Community Groups
END:VEVENT
END:VCALENDAR