BEGIN:VCALENDAR
VERSION:2.0
PRODID:-//St John The Baptist Church, Hatherleigh - ECPv6.15.20//NONSGML v1.0//EN
CALSCALE:GREGORIAN
METHOD:PUBLISH
X-ORIGINAL-URL:https://stjohnshatherleigh.uk
X-WR-CALDESC:Events for St John The Baptist Church, Hatherleigh
REFRESH-INTERVAL;VALUE=DURATION:PT1H
X-Robots-Tag:noindex
X-PUBLISHED-TTL:PT1H
BEGIN:VTIMEZONE
TZID:UTC
BEGIN:STANDARD
TZOFFSETFROM:+0000
TZOFFSETTO:+0000
TZNAME:UTC
DTSTART:20250101T000000
END:STANDARD
END:VTIMEZONE
BEGIN:VEVENT
DTSTART;TZID=UTC:20261006T090000
DTEND;TZID=UTC:20261006T213000
DTSTAMP:20260421T214636
CREATED:20220411T211154Z
LAST-MODIFIED:20230604T104510Z
UID:10001871-1791277200-1791322200@stjohnshatherleigh.uk
SUMMARY:Tuesday Prayer Meeting
DESCRIPTION:Tuesday Prayer Meeting\nAn opportunity for members of all of Hatherleigh’s three churches to meet together to pray for the needs of the town. \nHeld every Tuesday in The Methodist Church\, Hatherleigh
URL:https://stjohnshatherleigh.uk/event/tuesday-prayer-meeting-38/2026-10-06/
LOCATION:Methodist Church\, 35 Bridge St\, Hatherleigh\, Devon\, EX20 3HZ
CATEGORIES:Prayer Group
ATTACH;FMTTYPE=image/jpeg:https://stjohnshatherleigh.uk/wp-content/uploads/2022/02/Prayer_Group.jpg
ORGANIZER;CN="Leigh Winsbury":MAILTO:lwinsbury@googlemail.com
END:VEVENT
BEGIN:VEVENT
DTSTART;TZID=UTC:20261013T090000
DTEND;TZID=UTC:20261013T213000
DTSTAMP:20260421T214636
CREATED:20220411T211154Z
LAST-MODIFIED:20230604T104510Z
UID:10001872-1791882000-1791927000@stjohnshatherleigh.uk
SUMMARY:Tuesday Prayer Meeting
DESCRIPTION:Tuesday Prayer Meeting\nAn opportunity for members of all of Hatherleigh’s three churches to meet together to pray for the needs of the town. \nHeld every Tuesday in The Methodist Church\, Hatherleigh
URL:https://stjohnshatherleigh.uk/event/tuesday-prayer-meeting-38/2026-10-13/
LOCATION:Methodist Church\, 35 Bridge St\, Hatherleigh\, Devon\, EX20 3HZ
CATEGORIES:Prayer Group
ATTACH;FMTTYPE=image/jpeg:https://stjohnshatherleigh.uk/wp-content/uploads/2022/02/Prayer_Group.jpg
ORGANIZER;CN="Leigh Winsbury":MAILTO:lwinsbury@googlemail.com
END:VEVENT
BEGIN:VEVENT
DTSTART;TZID=UTC:20261020T090000
DTEND;TZID=UTC:20261020T213000
DTSTAMP:20260421T214636
CREATED:20220411T211154Z
LAST-MODIFIED:20230604T104510Z
UID:10001873-1792486800-1792531800@stjohnshatherleigh.uk
SUMMARY:Tuesday Prayer Meeting
DESCRIPTION:Tuesday Prayer Meeting\nAn opportunity for members of all of Hatherleigh’s three churches to meet together to pray for the needs of the town. \nHeld every Tuesday in The Methodist Church\, Hatherleigh
URL:https://stjohnshatherleigh.uk/event/tuesday-prayer-meeting-38/2026-10-20/
LOCATION:Methodist Church\, 35 Bridge St\, Hatherleigh\, Devon\, EX20 3HZ
CATEGORIES:Prayer Group
ATTACH;FMTTYPE=image/jpeg:https://stjohnshatherleigh.uk/wp-content/uploads/2022/02/Prayer_Group.jpg
ORGANIZER;CN="Leigh Winsbury":MAILTO:lwinsbury@googlemail.com
END:VEVENT
BEGIN:VEVENT
DTSTART;TZID=UTC:20261027T090000
DTEND;TZID=UTC:20261027T213000
DTSTAMP:20260421T214636
CREATED:20220411T211154Z
LAST-MODIFIED:20230604T104510Z
UID:10001874-1793091600-1793136600@stjohnshatherleigh.uk
SUMMARY:Tuesday Prayer Meeting
DESCRIPTION:Tuesday Prayer Meeting\nAn opportunity for members of all of Hatherleigh’s three churches to meet together to pray for the needs of the town. \nHeld every Tuesday in The Methodist Church\, Hatherleigh
URL:https://stjohnshatherleigh.uk/event/tuesday-prayer-meeting-38/2026-10-27/
LOCATION:Methodist Church\, 35 Bridge St\, Hatherleigh\, Devon\, EX20 3HZ
CATEGORIES:Prayer Group
ATTACH;FMTTYPE=image/jpeg:https://stjohnshatherleigh.uk/wp-content/uploads/2022/02/Prayer_Group.jpg
ORGANIZER;CN="Leigh Winsbury":MAILTO:lwinsbury@googlemail.com
END:VEVENT
BEGIN:VEVENT
DTSTART;TZID=UTC:20261103T090000
DTEND;TZID=UTC:20261103T213000
DTSTAMP:20260421T214636
CREATED:20220411T211154Z
LAST-MODIFIED:20230604T104510Z
UID:10001875-1793696400-1793741400@stjohnshatherleigh.uk
SUMMARY:Tuesday Prayer Meeting
DESCRIPTION:Tuesday Prayer Meeting\nAn opportunity for members of all of Hatherleigh’s three churches to meet together to pray for the needs of the town. \nHeld every Tuesday in The Methodist Church\, Hatherleigh
URL:https://stjohnshatherleigh.uk/event/tuesday-prayer-meeting-38/2026-11-03/
LOCATION:Methodist Church\, 35 Bridge St\, Hatherleigh\, Devon\, EX20 3HZ
CATEGORIES:Prayer Group
ATTACH;FMTTYPE=image/jpeg:https://stjohnshatherleigh.uk/wp-content/uploads/2022/02/Prayer_Group.jpg
ORGANIZER;CN="Leigh Winsbury":MAILTO:lwinsbury@googlemail.com
END:VEVENT
BEGIN:VEVENT
DTSTART;TZID=UTC:20261110T090000
DTEND;TZID=UTC:20261110T213000
DTSTAMP:20260421T214636
CREATED:20220411T211154Z
LAST-MODIFIED:20230604T104510Z
UID:10001876-1794301200-1794346200@stjohnshatherleigh.uk
SUMMARY:Tuesday Prayer Meeting
DESCRIPTION:Tuesday Prayer Meeting\nAn opportunity for members of all of Hatherleigh’s three churches to meet together to pray for the needs of the town. \nHeld every Tuesday in The Methodist Church\, Hatherleigh
URL:https://stjohnshatherleigh.uk/event/tuesday-prayer-meeting-38/2026-11-10/
LOCATION:Methodist Church\, 35 Bridge St\, Hatherleigh\, Devon\, EX20 3HZ
CATEGORIES:Prayer Group
ATTACH;FMTTYPE=image/jpeg:https://stjohnshatherleigh.uk/wp-content/uploads/2022/02/Prayer_Group.jpg
ORGANIZER;CN="Leigh Winsbury":MAILTO:lwinsbury@googlemail.com
END:VEVENT
BEGIN:VEVENT
DTSTART;TZID=UTC:20261117T090000
DTEND;TZID=UTC:20261117T213000
DTSTAMP:20260421T214636
CREATED:20220411T211154Z
LAST-MODIFIED:20230604T104510Z
UID:10001877-1794906000-1794951000@stjohnshatherleigh.uk
SUMMARY:Tuesday Prayer Meeting
DESCRIPTION:Tuesday Prayer Meeting\nAn opportunity for members of all of Hatherleigh’s three churches to meet together to pray for the needs of the town. \nHeld every Tuesday in The Methodist Church\, Hatherleigh
URL:https://stjohnshatherleigh.uk/event/tuesday-prayer-meeting-38/2026-11-17/
LOCATION:Methodist Church\, 35 Bridge St\, Hatherleigh\, Devon\, EX20 3HZ
CATEGORIES:Prayer Group
ATTACH;FMTTYPE=image/jpeg:https://stjohnshatherleigh.uk/wp-content/uploads/2022/02/Prayer_Group.jpg
ORGANIZER;CN="Leigh Winsbury":MAILTO:lwinsbury@googlemail.com
END:VEVENT
BEGIN:VEVENT
DTSTART;TZID=UTC:20261124T090000
DTEND;TZID=UTC:20261124T213000
DTSTAMP:20260421T214636
CREATED:20220411T211154Z
LAST-MODIFIED:20230604T104510Z
UID:10001878-1795510800-1795555800@stjohnshatherleigh.uk
SUMMARY:Tuesday Prayer Meeting
DESCRIPTION:Tuesday Prayer Meeting\nAn opportunity for members of all of Hatherleigh’s three churches to meet together to pray for the needs of the town. \nHeld every Tuesday in The Methodist Church\, Hatherleigh
URL:https://stjohnshatherleigh.uk/event/tuesday-prayer-meeting-38/2026-11-24/
LOCATION:Methodist Church\, 35 Bridge St\, Hatherleigh\, Devon\, EX20 3HZ
CATEGORIES:Prayer Group
ATTACH;FMTTYPE=image/jpeg:https://stjohnshatherleigh.uk/wp-content/uploads/2022/02/Prayer_Group.jpg
ORGANIZER;CN="Leigh Winsbury":MAILTO:lwinsbury@googlemail.com
END:VEVENT
BEGIN:VEVENT
DTSTART;TZID=UTC:20261201T090000
DTEND;TZID=UTC:20261201T213000
DTSTAMP:20260421T214636
CREATED:20220411T211154Z
LAST-MODIFIED:20230604T104510Z
UID:10001879-1796115600-1796160600@stjohnshatherleigh.uk
SUMMARY:Tuesday Prayer Meeting
DESCRIPTION:Tuesday Prayer Meeting\nAn opportunity for members of all of Hatherleigh’s three churches to meet together to pray for the needs of the town. \nHeld every Tuesday in The Methodist Church\, Hatherleigh
URL:https://stjohnshatherleigh.uk/event/tuesday-prayer-meeting-38/2026-12-01/
LOCATION:Methodist Church\, 35 Bridge St\, Hatherleigh\, Devon\, EX20 3HZ
CATEGORIES:Prayer Group
ATTACH;FMTTYPE=image/jpeg:https://stjohnshatherleigh.uk/wp-content/uploads/2022/02/Prayer_Group.jpg
ORGANIZER;CN="Leigh Winsbury":MAILTO:lwinsbury@googlemail.com
END:VEVENT
BEGIN:VEVENT
DTSTART;TZID=UTC:20261208T090000
DTEND;TZID=UTC:20261208T213000
DTSTAMP:20260421T214636
CREATED:20220411T211154Z
LAST-MODIFIED:20230604T104510Z
UID:10001880-1796720400-1796765400@stjohnshatherleigh.uk
SUMMARY:Tuesday Prayer Meeting
DESCRIPTION:Tuesday Prayer Meeting\nAn opportunity for members of all of Hatherleigh’s three churches to meet together to pray for the needs of the town. \nHeld every Tuesday in The Methodist Church\, Hatherleigh
URL:https://stjohnshatherleigh.uk/event/tuesday-prayer-meeting-38/2026-12-08/
LOCATION:Methodist Church\, 35 Bridge St\, Hatherleigh\, Devon\, EX20 3HZ
CATEGORIES:Prayer Group
ATTACH;FMTTYPE=image/jpeg:https://stjohnshatherleigh.uk/wp-content/uploads/2022/02/Prayer_Group.jpg
ORGANIZER;CN="Leigh Winsbury":MAILTO:lwinsbury@googlemail.com
END:VEVENT
BEGIN:VEVENT
DTSTART;TZID=UTC:20261215T090000
DTEND;TZID=UTC:20261215T213000
DTSTAMP:20260421T214636
CREATED:20220411T211154Z
LAST-MODIFIED:20230604T104510Z
UID:10001881-1797325200-1797370200@stjohnshatherleigh.uk
SUMMARY:Tuesday Prayer Meeting
DESCRIPTION:Tuesday Prayer Meeting\nAn opportunity for members of all of Hatherleigh’s three churches to meet together to pray for the needs of the town. \nHeld every Tuesday in The Methodist Church\, Hatherleigh
URL:https://stjohnshatherleigh.uk/event/tuesday-prayer-meeting-38/2026-12-15/
LOCATION:Methodist Church\, 35 Bridge St\, Hatherleigh\, Devon\, EX20 3HZ
CATEGORIES:Prayer Group
ATTACH;FMTTYPE=image/jpeg:https://stjohnshatherleigh.uk/wp-content/uploads/2022/02/Prayer_Group.jpg
ORGANIZER;CN="Leigh Winsbury":MAILTO:lwinsbury@googlemail.com
END:VEVENT
BEGIN:VEVENT
DTSTART;TZID=UTC:20261222T090000
DTEND;TZID=UTC:20261222T213000
DTSTAMP:20260421T214636
CREATED:20220411T211154Z
LAST-MODIFIED:20230604T104510Z
UID:10001882-1797930000-1797975000@stjohnshatherleigh.uk
SUMMARY:Tuesday Prayer Meeting
DESCRIPTION:Tuesday Prayer Meeting\nAn opportunity for members of all of Hatherleigh’s three churches to meet together to pray for the needs of the town. \nHeld every Tuesday in The Methodist Church\, Hatherleigh
URL:https://stjohnshatherleigh.uk/event/tuesday-prayer-meeting-38/2026-12-22/
LOCATION:Methodist Church\, 35 Bridge St\, Hatherleigh\, Devon\, EX20 3HZ
CATEGORIES:Prayer Group
ATTACH;FMTTYPE=image/jpeg:https://stjohnshatherleigh.uk/wp-content/uploads/2022/02/Prayer_Group.jpg
ORGANIZER;CN="Leigh Winsbury":MAILTO:lwinsbury@googlemail.com
END:VEVENT
BEGIN:VEVENT
DTSTART;TZID=UTC:20261229T090000
DTEND;TZID=UTC:20261229T213000
DTSTAMP:20260421T214636
CREATED:20220411T211154Z
LAST-MODIFIED:20230604T104510Z
UID:10001883-1798534800-1798579800@stjohnshatherleigh.uk
SUMMARY:Tuesday Prayer Meeting
DESCRIPTION:Tuesday Prayer Meeting\nAn opportunity for members of all of Hatherleigh’s three churches to meet together to pray for the needs of the town. \nHeld every Tuesday in The Methodist Church\, Hatherleigh
URL:https://stjohnshatherleigh.uk/event/tuesday-prayer-meeting-38/2026-12-29/
LOCATION:Methodist Church\, 35 Bridge St\, Hatherleigh\, Devon\, EX20 3HZ
CATEGORIES:Prayer Group
ATTACH;FMTTYPE=image/jpeg:https://stjohnshatherleigh.uk/wp-content/uploads/2022/02/Prayer_Group.jpg
ORGANIZER;CN="Leigh Winsbury":MAILTO:lwinsbury@googlemail.com
END:VEVENT
BEGIN:VEVENT
DTSTART;TZID=UTC:20270105T090000
DTEND;TZID=UTC:20270105T213000
DTSTAMP:20260421T214636
CREATED:20220411T211154Z
LAST-MODIFIED:20230604T104510Z
UID:10001884-1799139600-1799184600@stjohnshatherleigh.uk
SUMMARY:Tuesday Prayer Meeting
DESCRIPTION:Tuesday Prayer Meeting\nAn opportunity for members of all of Hatherleigh’s three churches to meet together to pray for the needs of the town. \nHeld every Tuesday in The Methodist Church\, Hatherleigh
URL:https://stjohnshatherleigh.uk/event/tuesday-prayer-meeting-38/2027-01-05/
LOCATION:Methodist Church\, 35 Bridge St\, Hatherleigh\, Devon\, EX20 3HZ
CATEGORIES:Prayer Group
ATTACH;FMTTYPE=image/jpeg:https://stjohnshatherleigh.uk/wp-content/uploads/2022/02/Prayer_Group.jpg
ORGANIZER;CN="Leigh Winsbury":MAILTO:lwinsbury@googlemail.com
END:VEVENT
BEGIN:VEVENT
DTSTART;TZID=UTC:20270112T090000
DTEND;TZID=UTC:20270112T213000
DTSTAMP:20260421T214636
CREATED:20220411T211154Z
LAST-MODIFIED:20230604T104510Z
UID:10001885-1799744400-1799789400@stjohnshatherleigh.uk
SUMMARY:Tuesday Prayer Meeting
DESCRIPTION:Tuesday Prayer Meeting\nAn opportunity for members of all of Hatherleigh’s three churches to meet together to pray for the needs of the town. \nHeld every Tuesday in The Methodist Church\, Hatherleigh
URL:https://stjohnshatherleigh.uk/event/tuesday-prayer-meeting-38/2027-01-12/
LOCATION:Methodist Church\, 35 Bridge St\, Hatherleigh\, Devon\, EX20 3HZ
CATEGORIES:Prayer Group
ATTACH;FMTTYPE=image/jpeg:https://stjohnshatherleigh.uk/wp-content/uploads/2022/02/Prayer_Group.jpg
ORGANIZER;CN="Leigh Winsbury":MAILTO:lwinsbury@googlemail.com
END:VEVENT
BEGIN:VEVENT
DTSTART;TZID=UTC:20270119T090000
DTEND;TZID=UTC:20270119T213000
DTSTAMP:20260421T214636
CREATED:20220411T211154Z
LAST-MODIFIED:20230604T104510Z
UID:10001886-1800349200-1800394200@stjohnshatherleigh.uk
SUMMARY:Tuesday Prayer Meeting
DESCRIPTION:Tuesday Prayer Meeting\nAn opportunity for members of all of Hatherleigh’s three churches to meet together to pray for the needs of the town. \nHeld every Tuesday in The Methodist Church\, Hatherleigh
URL:https://stjohnshatherleigh.uk/event/tuesday-prayer-meeting-38/2027-01-19/
LOCATION:Methodist Church\, 35 Bridge St\, Hatherleigh\, Devon\, EX20 3HZ
CATEGORIES:Prayer Group
ATTACH;FMTTYPE=image/jpeg:https://stjohnshatherleigh.uk/wp-content/uploads/2022/02/Prayer_Group.jpg
ORGANIZER;CN="Leigh Winsbury":MAILTO:lwinsbury@googlemail.com
END:VEVENT
BEGIN:VEVENT
DTSTART;TZID=UTC:20270126T090000
DTEND;TZID=UTC:20270126T213000
DTSTAMP:20260421T214636
CREATED:20220411T211154Z
LAST-MODIFIED:20230604T104510Z
UID:10001887-1800954000-1800999000@stjohnshatherleigh.uk
SUMMARY:Tuesday Prayer Meeting
DESCRIPTION:Tuesday Prayer Meeting\nAn opportunity for members of all of Hatherleigh’s three churches to meet together to pray for the needs of the town. \nHeld every Tuesday in The Methodist Church\, Hatherleigh
URL:https://stjohnshatherleigh.uk/event/tuesday-prayer-meeting-38/2027-01-26/
LOCATION:Methodist Church\, 35 Bridge St\, Hatherleigh\, Devon\, EX20 3HZ
CATEGORIES:Prayer Group
ATTACH;FMTTYPE=image/jpeg:https://stjohnshatherleigh.uk/wp-content/uploads/2022/02/Prayer_Group.jpg
ORGANIZER;CN="Leigh Winsbury":MAILTO:lwinsbury@googlemail.com
END:VEVENT
BEGIN:VEVENT
DTSTART;TZID=UTC:20270202T090000
DTEND;TZID=UTC:20270202T213000
DTSTAMP:20260421T214636
CREATED:20220411T211154Z
LAST-MODIFIED:20230604T104510Z
UID:10001888-1801558800-1801603800@stjohnshatherleigh.uk
SUMMARY:Tuesday Prayer Meeting
DESCRIPTION:Tuesday Prayer Meeting\nAn opportunity for members of all of Hatherleigh’s three churches to meet together to pray for the needs of the town. \nHeld every Tuesday in The Methodist Church\, Hatherleigh
URL:https://stjohnshatherleigh.uk/event/tuesday-prayer-meeting-38/2027-02-02/
LOCATION:Methodist Church\, 35 Bridge St\, Hatherleigh\, Devon\, EX20 3HZ
CATEGORIES:Prayer Group
ATTACH;FMTTYPE=image/jpeg:https://stjohnshatherleigh.uk/wp-content/uploads/2022/02/Prayer_Group.jpg
ORGANIZER;CN="Leigh Winsbury":MAILTO:lwinsbury@googlemail.com
END:VEVENT
BEGIN:VEVENT
DTSTART;TZID=UTC:20270209T090000
DTEND;TZID=UTC:20270209T213000
DTSTAMP:20260421T214636
CREATED:20220411T211154Z
LAST-MODIFIED:20230604T104510Z
UID:10001889-1802163600-1802208600@stjohnshatherleigh.uk
SUMMARY:Tuesday Prayer Meeting
DESCRIPTION:Tuesday Prayer Meeting\nAn opportunity for members of all of Hatherleigh’s three churches to meet together to pray for the needs of the town. \nHeld every Tuesday in The Methodist Church\, Hatherleigh
URL:https://stjohnshatherleigh.uk/event/tuesday-prayer-meeting-38/2027-02-09/
LOCATION:Methodist Church\, 35 Bridge St\, Hatherleigh\, Devon\, EX20 3HZ
CATEGORIES:Prayer Group
ATTACH;FMTTYPE=image/jpeg:https://stjohnshatherleigh.uk/wp-content/uploads/2022/02/Prayer_Group.jpg
ORGANIZER;CN="Leigh Winsbury":MAILTO:lwinsbury@googlemail.com
END:VEVENT
BEGIN:VEVENT
DTSTART;TZID=UTC:20270216T090000
DTEND;TZID=UTC:20270216T213000
DTSTAMP:20260421T214636
CREATED:20220411T211154Z
LAST-MODIFIED:20230604T104510Z
UID:10001890-1802768400-1802813400@stjohnshatherleigh.uk
SUMMARY:Tuesday Prayer Meeting
DESCRIPTION:Tuesday Prayer Meeting\nAn opportunity for members of all of Hatherleigh’s three churches to meet together to pray for the needs of the town. \nHeld every Tuesday in The Methodist Church\, Hatherleigh
URL:https://stjohnshatherleigh.uk/event/tuesday-prayer-meeting-38/2027-02-16/
LOCATION:Methodist Church\, 35 Bridge St\, Hatherleigh\, Devon\, EX20 3HZ
CATEGORIES:Prayer Group
ATTACH;FMTTYPE=image/jpeg:https://stjohnshatherleigh.uk/wp-content/uploads/2022/02/Prayer_Group.jpg
ORGANIZER;CN="Leigh Winsbury":MAILTO:lwinsbury@googlemail.com
END:VEVENT
BEGIN:VEVENT
DTSTART;TZID=UTC:20270223T090000
DTEND;TZID=UTC:20270223T213000
DTSTAMP:20260421T214636
CREATED:20220411T211154Z
LAST-MODIFIED:20230604T104510Z
UID:10001891-1803373200-1803418200@stjohnshatherleigh.uk
SUMMARY:Tuesday Prayer Meeting
DESCRIPTION:Tuesday Prayer Meeting\nAn opportunity for members of all of Hatherleigh’s three churches to meet together to pray for the needs of the town. \nHeld every Tuesday in The Methodist Church\, Hatherleigh
URL:https://stjohnshatherleigh.uk/event/tuesday-prayer-meeting-38/2027-02-23/
LOCATION:Methodist Church\, 35 Bridge St\, Hatherleigh\, Devon\, EX20 3HZ
CATEGORIES:Prayer Group
ATTACH;FMTTYPE=image/jpeg:https://stjohnshatherleigh.uk/wp-content/uploads/2022/02/Prayer_Group.jpg
ORGANIZER;CN="Leigh Winsbury":MAILTO:lwinsbury@googlemail.com
END:VEVENT
BEGIN:VEVENT
DTSTART;TZID=UTC:20270302T090000
DTEND;TZID=UTC:20270302T213000
DTSTAMP:20260421T214636
CREATED:20220411T211154Z
LAST-MODIFIED:20230604T104510Z
UID:10001892-1803978000-1804023000@stjohnshatherleigh.uk
SUMMARY:Tuesday Prayer Meeting
DESCRIPTION:Tuesday Prayer Meeting\nAn opportunity for members of all of Hatherleigh’s three churches to meet together to pray for the needs of the town. \nHeld every Tuesday in The Methodist Church\, Hatherleigh
URL:https://stjohnshatherleigh.uk/event/tuesday-prayer-meeting-38/2027-03-02/
LOCATION:Methodist Church\, 35 Bridge St\, Hatherleigh\, Devon\, EX20 3HZ
CATEGORIES:Prayer Group
ATTACH;FMTTYPE=image/jpeg:https://stjohnshatherleigh.uk/wp-content/uploads/2022/02/Prayer_Group.jpg
ORGANIZER;CN="Leigh Winsbury":MAILTO:lwinsbury@googlemail.com
END:VEVENT
BEGIN:VEVENT
DTSTART;TZID=UTC:20270309T090000
DTEND;TZID=UTC:20270309T213000
DTSTAMP:20260421T214636
CREATED:20220411T211154Z
LAST-MODIFIED:20230604T104510Z
UID:10001893-1804582800-1804627800@stjohnshatherleigh.uk
SUMMARY:Tuesday Prayer Meeting
DESCRIPTION:Tuesday Prayer Meeting\nAn opportunity for members of all of Hatherleigh’s three churches to meet together to pray for the needs of the town. \nHeld every Tuesday in The Methodist Church\, Hatherleigh
URL:https://stjohnshatherleigh.uk/event/tuesday-prayer-meeting-38/2027-03-09/
LOCATION:Methodist Church\, 35 Bridge St\, Hatherleigh\, Devon\, EX20 3HZ
CATEGORIES:Prayer Group
ATTACH;FMTTYPE=image/jpeg:https://stjohnshatherleigh.uk/wp-content/uploads/2022/02/Prayer_Group.jpg
ORGANIZER;CN="Leigh Winsbury":MAILTO:lwinsbury@googlemail.com
END:VEVENT
BEGIN:VEVENT
DTSTART;TZID=UTC:20270316T090000
DTEND;TZID=UTC:20270316T213000
DTSTAMP:20260421T214636
CREATED:20220411T211154Z
LAST-MODIFIED:20230604T104510Z
UID:10001894-1805187600-1805232600@stjohnshatherleigh.uk
SUMMARY:Tuesday Prayer Meeting
DESCRIPTION:Tuesday Prayer Meeting\nAn opportunity for members of all of Hatherleigh’s three churches to meet together to pray for the needs of the town. \nHeld every Tuesday in The Methodist Church\, Hatherleigh
URL:https://stjohnshatherleigh.uk/event/tuesday-prayer-meeting-38/2027-03-16/
LOCATION:Methodist Church\, 35 Bridge St\, Hatherleigh\, Devon\, EX20 3HZ
CATEGORIES:Prayer Group
ATTACH;FMTTYPE=image/jpeg:https://stjohnshatherleigh.uk/wp-content/uploads/2022/02/Prayer_Group.jpg
ORGANIZER;CN="Leigh Winsbury":MAILTO:lwinsbury@googlemail.com
END:VEVENT
BEGIN:VEVENT
DTSTART;TZID=UTC:20270323T090000
DTEND;TZID=UTC:20270323T213000
DTSTAMP:20260421T214636
CREATED:20220411T211154Z
LAST-MODIFIED:20230604T104510Z
UID:10001895-1805792400-1805837400@stjohnshatherleigh.uk
SUMMARY:Tuesday Prayer Meeting
DESCRIPTION:Tuesday Prayer Meeting\nAn opportunity for members of all of Hatherleigh’s three churches to meet together to pray for the needs of the town. \nHeld every Tuesday in The Methodist Church\, Hatherleigh
URL:https://stjohnshatherleigh.uk/event/tuesday-prayer-meeting-38/2027-03-23/
LOCATION:Methodist Church\, 35 Bridge St\, Hatherleigh\, Devon\, EX20 3HZ
CATEGORIES:Prayer Group
ATTACH;FMTTYPE=image/jpeg:https://stjohnshatherleigh.uk/wp-content/uploads/2022/02/Prayer_Group.jpg
ORGANIZER;CN="Leigh Winsbury":MAILTO:lwinsbury@googlemail.com
END:VEVENT
BEGIN:VEVENT
DTSTART;TZID=UTC:20270330T090000
DTEND;TZID=UTC:20270330T213000
DTSTAMP:20260421T214636
CREATED:20220411T211154Z
LAST-MODIFIED:20230604T104510Z
UID:10001896-1806397200-1806442200@stjohnshatherleigh.uk
SUMMARY:Tuesday Prayer Meeting
DESCRIPTION:Tuesday Prayer Meeting\nAn opportunity for members of all of Hatherleigh’s three churches to meet together to pray for the needs of the town. \nHeld every Tuesday in The Methodist Church\, Hatherleigh
URL:https://stjohnshatherleigh.uk/event/tuesday-prayer-meeting-38/2027-03-30/
LOCATION:Methodist Church\, 35 Bridge St\, Hatherleigh\, Devon\, EX20 3HZ
CATEGORIES:Prayer Group
ATTACH;FMTTYPE=image/jpeg:https://stjohnshatherleigh.uk/wp-content/uploads/2022/02/Prayer_Group.jpg
ORGANIZER;CN="Leigh Winsbury":MAILTO:lwinsbury@googlemail.com
END:VEVENT
BEGIN:VEVENT
DTSTART;TZID=UTC:20270406T090000
DTEND;TZID=UTC:20270406T213000
DTSTAMP:20260421T214636
CREATED:20220411T211154Z
LAST-MODIFIED:20230604T104510Z
UID:10001897-1807002000-1807047000@stjohnshatherleigh.uk
SUMMARY:Tuesday Prayer Meeting
DESCRIPTION:Tuesday Prayer Meeting\nAn opportunity for members of all of Hatherleigh’s three churches to meet together to pray for the needs of the town. \nHeld every Tuesday in The Methodist Church\, Hatherleigh
URL:https://stjohnshatherleigh.uk/event/tuesday-prayer-meeting-38/2027-04-06/
LOCATION:Methodist Church\, 35 Bridge St\, Hatherleigh\, Devon\, EX20 3HZ
CATEGORIES:Prayer Group
ATTACH;FMTTYPE=image/jpeg:https://stjohnshatherleigh.uk/wp-content/uploads/2022/02/Prayer_Group.jpg
ORGANIZER;CN="Leigh Winsbury":MAILTO:lwinsbury@googlemail.com
END:VEVENT
BEGIN:VEVENT
DTSTART;TZID=UTC:20270413T090000
DTEND;TZID=UTC:20270413T213000
DTSTAMP:20260421T214636
CREATED:20220411T211154Z
LAST-MODIFIED:20230604T104510Z
UID:10001898-1807606800-1807651800@stjohnshatherleigh.uk
SUMMARY:Tuesday Prayer Meeting
DESCRIPTION:Tuesday Prayer Meeting\nAn opportunity for members of all of Hatherleigh’s three churches to meet together to pray for the needs of the town. \nHeld every Tuesday in The Methodist Church\, Hatherleigh
URL:https://stjohnshatherleigh.uk/event/tuesday-prayer-meeting-38/2027-04-13/
LOCATION:Methodist Church\, 35 Bridge St\, Hatherleigh\, Devon\, EX20 3HZ
CATEGORIES:Prayer Group
ATTACH;FMTTYPE=image/jpeg:https://stjohnshatherleigh.uk/wp-content/uploads/2022/02/Prayer_Group.jpg
ORGANIZER;CN="Leigh Winsbury":MAILTO:lwinsbury@googlemail.com
END:VEVENT
BEGIN:VEVENT
DTSTART;TZID=UTC:20270420T090000
DTEND;TZID=UTC:20270420T213000
DTSTAMP:20260421T214636
CREATED:20220411T211154Z
LAST-MODIFIED:20230604T104510Z
UID:10001899-1808211600-1808256600@stjohnshatherleigh.uk
SUMMARY:Tuesday Prayer Meeting
DESCRIPTION:Tuesday Prayer Meeting\nAn opportunity for members of all of Hatherleigh’s three churches to meet together to pray for the needs of the town. \nHeld every Tuesday in The Methodist Church\, Hatherleigh
URL:https://stjohnshatherleigh.uk/event/tuesday-prayer-meeting-38/2027-04-20/
LOCATION:Methodist Church\, 35 Bridge St\, Hatherleigh\, Devon\, EX20 3HZ
CATEGORIES:Prayer Group
ATTACH;FMTTYPE=image/jpeg:https://stjohnshatherleigh.uk/wp-content/uploads/2022/02/Prayer_Group.jpg
ORGANIZER;CN="Leigh Winsbury":MAILTO:lwinsbury@googlemail.com
END:VEVENT
BEGIN:VEVENT
DTSTART;TZID=UTC:20270427T090000
DTEND;TZID=UTC:20270427T213000
DTSTAMP:20260421T214636
CREATED:20220411T211154Z
LAST-MODIFIED:20230604T104510Z
UID:10001900-1808816400-1808861400@stjohnshatherleigh.uk
SUMMARY:Tuesday Prayer Meeting
DESCRIPTION:Tuesday Prayer Meeting\nAn opportunity for members of all of Hatherleigh’s three churches to meet together to pray for the needs of the town. \nHeld every Tuesday in The Methodist Church\, Hatherleigh
URL:https://stjohnshatherleigh.uk/event/tuesday-prayer-meeting-38/2027-04-27/
LOCATION:Methodist Church\, 35 Bridge St\, Hatherleigh\, Devon\, EX20 3HZ
CATEGORIES:Prayer Group
ATTACH;FMTTYPE=image/jpeg:https://stjohnshatherleigh.uk/wp-content/uploads/2022/02/Prayer_Group.jpg
ORGANIZER;CN="Leigh Winsbury":MAILTO:lwinsbury@googlemail.com
END:VEVENT
END:VCALENDAR