BEGIN:VCALENDAR
VERSION:2.0
PRODID:-//St John The Baptist Church, Hatherleigh - ECPv6.15.20//NONSGML v1.0//EN
CALSCALE:GREGORIAN
METHOD:PUBLISH
X-ORIGINAL-URL:https://stjohnshatherleigh.uk
X-WR-CALDESC:Events for St John The Baptist Church, Hatherleigh
REFRESH-INTERVAL;VALUE=DURATION:PT1H
X-Robots-Tag:noindex
X-PUBLISHED-TTL:PT1H
BEGIN:VTIMEZONE
TZID:UTC
BEGIN:STANDARD
TZOFFSETFROM:+0000
TZOFFSETTO:+0000
TZNAME:UTC
DTSTART:20230101T000000
END:STANDARD
END:VTIMEZONE
BEGIN:VEVENT
DTSTART;TZID=UTC:20250127T190000
DTEND;TZID=UTC:20250127T210000
DTSTAMP:20260422T233036
CREATED:20220412T155415Z
LAST-MODIFIED:20231123T105707Z
UID:10002543-1738004400-1738011600@stjohnshatherleigh.uk
SUMMARY:Bible Study Group
DESCRIPTION:Bible Study Group\nIn these we study the bible together\, maybe picking up themes from the previous Sunday. We may sing a bit\, pray for one another and definitely will grow in friendship and fellowship. \nThey may be led by the vicar or other members of the leadership team in different homes and will each have a slightly different ‘flavour’.
URL:https://stjohnshatherleigh.uk/event/bible-study-group-38/2025-01-27/
LOCATION:The Rectory\, The Rectory\, Hatherleigh\, Devon\, EX20 3JY\, United Kingdom
CATEGORIES:Bible Study Group
ATTACH;FMTTYPE=image/jpeg:https://stjohnshatherleigh.uk/wp-content/uploads/2022/02/Home_Group.jpg
END:VEVENT
BEGIN:VEVENT
DTSTART;TZID=UTC:20250120T190000
DTEND;TZID=UTC:20250120T210000
DTSTAMP:20260422T233036
CREATED:20220412T155415Z
LAST-MODIFIED:20231123T105707Z
UID:10002542-1737399600-1737406800@stjohnshatherleigh.uk
SUMMARY:Bible Study Group
DESCRIPTION:Bible Study Group\nIn these we study the bible together\, maybe picking up themes from the previous Sunday. We may sing a bit\, pray for one another and definitely will grow in friendship and fellowship. \nThey may be led by the vicar or other members of the leadership team in different homes and will each have a slightly different ‘flavour’.
URL:https://stjohnshatherleigh.uk/event/bible-study-group-38/2025-01-20/
LOCATION:The Rectory\, The Rectory\, Hatherleigh\, Devon\, EX20 3JY\, United Kingdom
CATEGORIES:Bible Study Group
ATTACH;FMTTYPE=image/jpeg:https://stjohnshatherleigh.uk/wp-content/uploads/2022/02/Home_Group.jpg
END:VEVENT
BEGIN:VEVENT
DTSTART;TZID=UTC:20250113T190000
DTEND;TZID=UTC:20250113T210000
DTSTAMP:20260422T233036
CREATED:20220412T155415Z
LAST-MODIFIED:20231123T105707Z
UID:10002541-1736794800-1736802000@stjohnshatherleigh.uk
SUMMARY:Bible Study Group
DESCRIPTION:Bible Study Group\nIn these we study the bible together\, maybe picking up themes from the previous Sunday. We may sing a bit\, pray for one another and definitely will grow in friendship and fellowship. \nThey may be led by the vicar or other members of the leadership team in different homes and will each have a slightly different ‘flavour’.
URL:https://stjohnshatherleigh.uk/event/bible-study-group-38/2025-01-13/
LOCATION:The Rectory\, The Rectory\, Hatherleigh\, Devon\, EX20 3JY\, United Kingdom
CATEGORIES:Bible Study Group
ATTACH;FMTTYPE=image/jpeg:https://stjohnshatherleigh.uk/wp-content/uploads/2022/02/Home_Group.jpg
END:VEVENT
BEGIN:VEVENT
DTSTART;TZID=UTC:20250106T190000
DTEND;TZID=UTC:20250106T210000
DTSTAMP:20260422T233036
CREATED:20220412T155415Z
LAST-MODIFIED:20231123T105707Z
UID:10002540-1736190000-1736197200@stjohnshatherleigh.uk
SUMMARY:Bible Study Group
DESCRIPTION:Bible Study Group\nIn these we study the bible together\, maybe picking up themes from the previous Sunday. We may sing a bit\, pray for one another and definitely will grow in friendship and fellowship. \nThey may be led by the vicar or other members of the leadership team in different homes and will each have a slightly different ‘flavour’.
URL:https://stjohnshatherleigh.uk/event/bible-study-group-38/2025-01-06/
LOCATION:The Rectory\, The Rectory\, Hatherleigh\, Devon\, EX20 3JY\, United Kingdom
CATEGORIES:Bible Study Group
ATTACH;FMTTYPE=image/jpeg:https://stjohnshatherleigh.uk/wp-content/uploads/2022/02/Home_Group.jpg
END:VEVENT
BEGIN:VEVENT
DTSTART;TZID=UTC:20241230T190000
DTEND;TZID=UTC:20241230T210000
DTSTAMP:20260422T233036
CREATED:20220412T155415Z
LAST-MODIFIED:20231123T105707Z
UID:10002539-1735585200-1735592400@stjohnshatherleigh.uk
SUMMARY:Bible Study Group
DESCRIPTION:Bible Study Group\nIn these we study the bible together\, maybe picking up themes from the previous Sunday. We may sing a bit\, pray for one another and definitely will grow in friendship and fellowship. \nThey may be led by the vicar or other members of the leadership team in different homes and will each have a slightly different ‘flavour’.
URL:https://stjohnshatherleigh.uk/event/bible-study-group-38/2024-12-30/
LOCATION:The Rectory\, The Rectory\, Hatherleigh\, Devon\, EX20 3JY\, United Kingdom
CATEGORIES:Bible Study Group
ATTACH;FMTTYPE=image/jpeg:https://stjohnshatherleigh.uk/wp-content/uploads/2022/02/Home_Group.jpg
END:VEVENT
BEGIN:VEVENT
DTSTART;TZID=UTC:20241223T190000
DTEND;TZID=UTC:20241223T210000
DTSTAMP:20260422T233036
CREATED:20220412T155415Z
LAST-MODIFIED:20231123T105707Z
UID:10002538-1734980400-1734987600@stjohnshatherleigh.uk
SUMMARY:Bible Study Group
DESCRIPTION:Bible Study Group\nIn these we study the bible together\, maybe picking up themes from the previous Sunday. We may sing a bit\, pray for one another and definitely will grow in friendship and fellowship. \nThey may be led by the vicar or other members of the leadership team in different homes and will each have a slightly different ‘flavour’.
URL:https://stjohnshatherleigh.uk/event/bible-study-group-38/2024-12-23/
LOCATION:The Rectory\, The Rectory\, Hatherleigh\, Devon\, EX20 3JY\, United Kingdom
CATEGORIES:Bible Study Group
ATTACH;FMTTYPE=image/jpeg:https://stjohnshatherleigh.uk/wp-content/uploads/2022/02/Home_Group.jpg
END:VEVENT
BEGIN:VEVENT
DTSTART;TZID=UTC:20241216T190000
DTEND;TZID=UTC:20241216T210000
DTSTAMP:20260422T233036
CREATED:20220412T155415Z
LAST-MODIFIED:20231123T105707Z
UID:10002537-1734375600-1734382800@stjohnshatherleigh.uk
SUMMARY:Bible Study Group
DESCRIPTION:Bible Study Group\nIn these we study the bible together\, maybe picking up themes from the previous Sunday. We may sing a bit\, pray for one another and definitely will grow in friendship and fellowship. \nThey may be led by the vicar or other members of the leadership team in different homes and will each have a slightly different ‘flavour’.
URL:https://stjohnshatherleigh.uk/event/bible-study-group-38/2024-12-16/
LOCATION:The Rectory\, The Rectory\, Hatherleigh\, Devon\, EX20 3JY\, United Kingdom
CATEGORIES:Bible Study Group
ATTACH;FMTTYPE=image/jpeg:https://stjohnshatherleigh.uk/wp-content/uploads/2022/02/Home_Group.jpg
END:VEVENT
BEGIN:VEVENT
DTSTART;TZID=UTC:20241209T190000
DTEND;TZID=UTC:20241209T210000
DTSTAMP:20260422T233036
CREATED:20220412T155415Z
LAST-MODIFIED:20231123T105707Z
UID:10002536-1733770800-1733778000@stjohnshatherleigh.uk
SUMMARY:Bible Study Group
DESCRIPTION:Bible Study Group\nIn these we study the bible together\, maybe picking up themes from the previous Sunday. We may sing a bit\, pray for one another and definitely will grow in friendship and fellowship. \nThey may be led by the vicar or other members of the leadership team in different homes and will each have a slightly different ‘flavour’.
URL:https://stjohnshatherleigh.uk/event/bible-study-group-38/2024-12-09/
LOCATION:The Rectory\, The Rectory\, Hatherleigh\, Devon\, EX20 3JY\, United Kingdom
CATEGORIES:Bible Study Group
ATTACH;FMTTYPE=image/jpeg:https://stjohnshatherleigh.uk/wp-content/uploads/2022/02/Home_Group.jpg
END:VEVENT
BEGIN:VEVENT
DTSTART;TZID=UTC:20241202T190000
DTEND;TZID=UTC:20241202T210000
DTSTAMP:20260422T233036
CREATED:20220412T155415Z
LAST-MODIFIED:20231123T105707Z
UID:10002535-1733166000-1733173200@stjohnshatherleigh.uk
SUMMARY:Bible Study Group
DESCRIPTION:Bible Study Group\nIn these we study the bible together\, maybe picking up themes from the previous Sunday. We may sing a bit\, pray for one another and definitely will grow in friendship and fellowship. \nThey may be led by the vicar or other members of the leadership team in different homes and will each have a slightly different ‘flavour’.
URL:https://stjohnshatherleigh.uk/event/bible-study-group-38/2024-12-02/
LOCATION:The Rectory\, The Rectory\, Hatherleigh\, Devon\, EX20 3JY\, United Kingdom
CATEGORIES:Bible Study Group
ATTACH;FMTTYPE=image/jpeg:https://stjohnshatherleigh.uk/wp-content/uploads/2022/02/Home_Group.jpg
END:VEVENT
BEGIN:VEVENT
DTSTART;TZID=UTC:20241125T190000
DTEND;TZID=UTC:20241125T210000
DTSTAMP:20260422T233036
CREATED:20220412T155415Z
LAST-MODIFIED:20231123T105707Z
UID:10002534-1732561200-1732568400@stjohnshatherleigh.uk
SUMMARY:Bible Study Group
DESCRIPTION:Bible Study Group\nIn these we study the bible together\, maybe picking up themes from the previous Sunday. We may sing a bit\, pray for one another and definitely will grow in friendship and fellowship. \nThey may be led by the vicar or other members of the leadership team in different homes and will each have a slightly different ‘flavour’.
URL:https://stjohnshatherleigh.uk/event/bible-study-group-38/2024-11-25/
LOCATION:The Rectory\, The Rectory\, Hatherleigh\, Devon\, EX20 3JY\, United Kingdom
CATEGORIES:Bible Study Group
ATTACH;FMTTYPE=image/jpeg:https://stjohnshatherleigh.uk/wp-content/uploads/2022/02/Home_Group.jpg
END:VEVENT
BEGIN:VEVENT
DTSTART;TZID=UTC:20241118T190000
DTEND;TZID=UTC:20241118T210000
DTSTAMP:20260422T233036
CREATED:20220412T155415Z
LAST-MODIFIED:20231123T105707Z
UID:10002533-1731956400-1731963600@stjohnshatherleigh.uk
SUMMARY:Bible Study Group
DESCRIPTION:Bible Study Group\nIn these we study the bible together\, maybe picking up themes from the previous Sunday. We may sing a bit\, pray for one another and definitely will grow in friendship and fellowship. \nThey may be led by the vicar or other members of the leadership team in different homes and will each have a slightly different ‘flavour’.
URL:https://stjohnshatherleigh.uk/event/bible-study-group-38/2024-11-18/
LOCATION:The Rectory\, The Rectory\, Hatherleigh\, Devon\, EX20 3JY\, United Kingdom
CATEGORIES:Bible Study Group
ATTACH;FMTTYPE=image/jpeg:https://stjohnshatherleigh.uk/wp-content/uploads/2022/02/Home_Group.jpg
END:VEVENT
BEGIN:VEVENT
DTSTART;TZID=UTC:20241111T190000
DTEND;TZID=UTC:20241111T210000
DTSTAMP:20260422T233036
CREATED:20220412T155415Z
LAST-MODIFIED:20231123T105707Z
UID:10002532-1731351600-1731358800@stjohnshatherleigh.uk
SUMMARY:Bible Study Group
DESCRIPTION:Bible Study Group\nIn these we study the bible together\, maybe picking up themes from the previous Sunday. We may sing a bit\, pray for one another and definitely will grow in friendship and fellowship. \nThey may be led by the vicar or other members of the leadership team in different homes and will each have a slightly different ‘flavour’.
URL:https://stjohnshatherleigh.uk/event/bible-study-group-38/2024-11-11/
LOCATION:The Rectory\, The Rectory\, Hatherleigh\, Devon\, EX20 3JY\, United Kingdom
CATEGORIES:Bible Study Group
ATTACH;FMTTYPE=image/jpeg:https://stjohnshatherleigh.uk/wp-content/uploads/2022/02/Home_Group.jpg
END:VEVENT
BEGIN:VEVENT
DTSTART;TZID=UTC:20241104T190000
DTEND;TZID=UTC:20241104T210000
DTSTAMP:20260422T233036
CREATED:20220412T155415Z
LAST-MODIFIED:20231123T105707Z
UID:10002531-1730746800-1730754000@stjohnshatherleigh.uk
SUMMARY:Bible Study Group
DESCRIPTION:Bible Study Group\nIn these we study the bible together\, maybe picking up themes from the previous Sunday. We may sing a bit\, pray for one another and definitely will grow in friendship and fellowship. \nThey may be led by the vicar or other members of the leadership team in different homes and will each have a slightly different ‘flavour’.
URL:https://stjohnshatherleigh.uk/event/bible-study-group-38/2024-11-04/
LOCATION:The Rectory\, The Rectory\, Hatherleigh\, Devon\, EX20 3JY\, United Kingdom
CATEGORIES:Bible Study Group
ATTACH;FMTTYPE=image/jpeg:https://stjohnshatherleigh.uk/wp-content/uploads/2022/02/Home_Group.jpg
END:VEVENT
BEGIN:VEVENT
DTSTART;TZID=UTC:20241028T190000
DTEND;TZID=UTC:20241028T210000
DTSTAMP:20260422T233036
CREATED:20220412T155415Z
LAST-MODIFIED:20231123T105707Z
UID:10002530-1730142000-1730149200@stjohnshatherleigh.uk
SUMMARY:Bible Study Group
DESCRIPTION:Bible Study Group\nIn these we study the bible together\, maybe picking up themes from the previous Sunday. We may sing a bit\, pray for one another and definitely will grow in friendship and fellowship. \nThey may be led by the vicar or other members of the leadership team in different homes and will each have a slightly different ‘flavour’.
URL:https://stjohnshatherleigh.uk/event/bible-study-group-38/2024-10-28/
LOCATION:The Rectory\, The Rectory\, Hatherleigh\, Devon\, EX20 3JY\, United Kingdom
CATEGORIES:Bible Study Group
ATTACH;FMTTYPE=image/jpeg:https://stjohnshatherleigh.uk/wp-content/uploads/2022/02/Home_Group.jpg
END:VEVENT
BEGIN:VEVENT
DTSTART;TZID=UTC:20241021T190000
DTEND;TZID=UTC:20241021T210000
DTSTAMP:20260422T233036
CREATED:20220412T155415Z
LAST-MODIFIED:20231123T105707Z
UID:10002529-1729537200-1729544400@stjohnshatherleigh.uk
SUMMARY:Bible Study Group
DESCRIPTION:Bible Study Group\nIn these we study the bible together\, maybe picking up themes from the previous Sunday. We may sing a bit\, pray for one another and definitely will grow in friendship and fellowship. \nThey may be led by the vicar or other members of the leadership team in different homes and will each have a slightly different ‘flavour’.
URL:https://stjohnshatherleigh.uk/event/bible-study-group-38/2024-10-21/
LOCATION:The Rectory\, The Rectory\, Hatherleigh\, Devon\, EX20 3JY\, United Kingdom
CATEGORIES:Bible Study Group
ATTACH;FMTTYPE=image/jpeg:https://stjohnshatherleigh.uk/wp-content/uploads/2022/02/Home_Group.jpg
END:VEVENT
BEGIN:VEVENT
DTSTART;TZID=UTC:20241014T190000
DTEND;TZID=UTC:20241014T210000
DTSTAMP:20260422T233036
CREATED:20220412T155415Z
LAST-MODIFIED:20231123T105707Z
UID:10002528-1728932400-1728939600@stjohnshatherleigh.uk
SUMMARY:Bible Study Group
DESCRIPTION:Bible Study Group\nIn these we study the bible together\, maybe picking up themes from the previous Sunday. We may sing a bit\, pray for one another and definitely will grow in friendship and fellowship. \nThey may be led by the vicar or other members of the leadership team in different homes and will each have a slightly different ‘flavour’.
URL:https://stjohnshatherleigh.uk/event/bible-study-group-38/2024-10-14/
LOCATION:The Rectory\, The Rectory\, Hatherleigh\, Devon\, EX20 3JY\, United Kingdom
CATEGORIES:Bible Study Group
ATTACH;FMTTYPE=image/jpeg:https://stjohnshatherleigh.uk/wp-content/uploads/2022/02/Home_Group.jpg
END:VEVENT
BEGIN:VEVENT
DTSTART;TZID=UTC:20241007T190000
DTEND;TZID=UTC:20241007T210000
DTSTAMP:20260422T233036
CREATED:20220412T155415Z
LAST-MODIFIED:20231123T105707Z
UID:10002527-1728327600-1728334800@stjohnshatherleigh.uk
SUMMARY:Bible Study Group
DESCRIPTION:Bible Study Group\nIn these we study the bible together\, maybe picking up themes from the previous Sunday. We may sing a bit\, pray for one another and definitely will grow in friendship and fellowship. \nThey may be led by the vicar or other members of the leadership team in different homes and will each have a slightly different ‘flavour’.
URL:https://stjohnshatherleigh.uk/event/bible-study-group-38/2024-10-07/
LOCATION:The Rectory\, The Rectory\, Hatherleigh\, Devon\, EX20 3JY\, United Kingdom
CATEGORIES:Bible Study Group
ATTACH;FMTTYPE=image/jpeg:https://stjohnshatherleigh.uk/wp-content/uploads/2022/02/Home_Group.jpg
END:VEVENT
BEGIN:VEVENT
DTSTART;TZID=UTC:20240930T190000
DTEND;TZID=UTC:20240930T210000
DTSTAMP:20260422T233036
CREATED:20220412T155415Z
LAST-MODIFIED:20231123T105707Z
UID:10002526-1727722800-1727730000@stjohnshatherleigh.uk
SUMMARY:Bible Study Group
DESCRIPTION:Bible Study Group\nIn these we study the bible together\, maybe picking up themes from the previous Sunday. We may sing a bit\, pray for one another and definitely will grow in friendship and fellowship. \nThey may be led by the vicar or other members of the leadership team in different homes and will each have a slightly different ‘flavour’.
URL:https://stjohnshatherleigh.uk/event/bible-study-group-38/2024-09-30/
LOCATION:The Rectory\, The Rectory\, Hatherleigh\, Devon\, EX20 3JY\, United Kingdom
CATEGORIES:Bible Study Group
ATTACH;FMTTYPE=image/jpeg:https://stjohnshatherleigh.uk/wp-content/uploads/2022/02/Home_Group.jpg
END:VEVENT
BEGIN:VEVENT
DTSTART;TZID=UTC:20240923T190000
DTEND;TZID=UTC:20240923T210000
DTSTAMP:20260422T233036
CREATED:20220412T155415Z
LAST-MODIFIED:20231123T105707Z
UID:10002525-1727118000-1727125200@stjohnshatherleigh.uk
SUMMARY:Bible Study Group
DESCRIPTION:Bible Study Group\nIn these we study the bible together\, maybe picking up themes from the previous Sunday. We may sing a bit\, pray for one another and definitely will grow in friendship and fellowship. \nThey may be led by the vicar or other members of the leadership team in different homes and will each have a slightly different ‘flavour’.
URL:https://stjohnshatherleigh.uk/event/bible-study-group-38/2024-09-23/
LOCATION:The Rectory\, The Rectory\, Hatherleigh\, Devon\, EX20 3JY\, United Kingdom
CATEGORIES:Bible Study Group
ATTACH;FMTTYPE=image/jpeg:https://stjohnshatherleigh.uk/wp-content/uploads/2022/02/Home_Group.jpg
END:VEVENT
BEGIN:VEVENT
DTSTART;TZID=UTC:20240916T190000
DTEND;TZID=UTC:20240916T210000
DTSTAMP:20260422T233036
CREATED:20220412T155415Z
LAST-MODIFIED:20231123T105707Z
UID:10002524-1726513200-1726520400@stjohnshatherleigh.uk
SUMMARY:Bible Study Group
DESCRIPTION:Bible Study Group\nIn these we study the bible together\, maybe picking up themes from the previous Sunday. We may sing a bit\, pray for one another and definitely will grow in friendship and fellowship. \nThey may be led by the vicar or other members of the leadership team in different homes and will each have a slightly different ‘flavour’.
URL:https://stjohnshatherleigh.uk/event/bible-study-group-38/2024-09-16/
LOCATION:The Rectory\, The Rectory\, Hatherleigh\, Devon\, EX20 3JY\, United Kingdom
CATEGORIES:Bible Study Group
ATTACH;FMTTYPE=image/jpeg:https://stjohnshatherleigh.uk/wp-content/uploads/2022/02/Home_Group.jpg
END:VEVENT
BEGIN:VEVENT
DTSTART;TZID=UTC:20240909T190000
DTEND;TZID=UTC:20240909T210000
DTSTAMP:20260422T233036
CREATED:20220412T155415Z
LAST-MODIFIED:20231123T105707Z
UID:10002523-1725908400-1725915600@stjohnshatherleigh.uk
SUMMARY:Bible Study Group
DESCRIPTION:Bible Study Group\nIn these we study the bible together\, maybe picking up themes from the previous Sunday. We may sing a bit\, pray for one another and definitely will grow in friendship and fellowship. \nThey may be led by the vicar or other members of the leadership team in different homes and will each have a slightly different ‘flavour’.
URL:https://stjohnshatherleigh.uk/event/bible-study-group-38/2024-09-09/
LOCATION:The Rectory\, The Rectory\, Hatherleigh\, Devon\, EX20 3JY\, United Kingdom
CATEGORIES:Bible Study Group
ATTACH;FMTTYPE=image/jpeg:https://stjohnshatherleigh.uk/wp-content/uploads/2022/02/Home_Group.jpg
END:VEVENT
BEGIN:VEVENT
DTSTART;TZID=UTC:20240902T190000
DTEND;TZID=UTC:20240902T210000
DTSTAMP:20260422T233036
CREATED:20220412T155415Z
LAST-MODIFIED:20231123T105707Z
UID:10002522-1725303600-1725310800@stjohnshatherleigh.uk
SUMMARY:Bible Study Group
DESCRIPTION:Bible Study Group\nIn these we study the bible together\, maybe picking up themes from the previous Sunday. We may sing a bit\, pray for one another and definitely will grow in friendship and fellowship. \nThey may be led by the vicar or other members of the leadership team in different homes and will each have a slightly different ‘flavour’.
URL:https://stjohnshatherleigh.uk/event/bible-study-group-38/2024-09-02/
LOCATION:The Rectory\, The Rectory\, Hatherleigh\, Devon\, EX20 3JY\, United Kingdom
CATEGORIES:Bible Study Group
ATTACH;FMTTYPE=image/jpeg:https://stjohnshatherleigh.uk/wp-content/uploads/2022/02/Home_Group.jpg
END:VEVENT
BEGIN:VEVENT
DTSTART;TZID=UTC:20240826T190000
DTEND;TZID=UTC:20240826T210000
DTSTAMP:20260422T233036
CREATED:20220412T155415Z
LAST-MODIFIED:20231123T105707Z
UID:10002521-1724698800-1724706000@stjohnshatherleigh.uk
SUMMARY:Bible Study Group
DESCRIPTION:Bible Study Group\nIn these we study the bible together\, maybe picking up themes from the previous Sunday. We may sing a bit\, pray for one another and definitely will grow in friendship and fellowship. \nThey may be led by the vicar or other members of the leadership team in different homes and will each have a slightly different ‘flavour’.
URL:https://stjohnshatherleigh.uk/event/bible-study-group-38/2024-08-26/
LOCATION:The Rectory\, The Rectory\, Hatherleigh\, Devon\, EX20 3JY\, United Kingdom
CATEGORIES:Bible Study Group
ATTACH;FMTTYPE=image/jpeg:https://stjohnshatherleigh.uk/wp-content/uploads/2022/02/Home_Group.jpg
END:VEVENT
BEGIN:VEVENT
DTSTART;TZID=UTC:20240819T190000
DTEND;TZID=UTC:20240819T210000
DTSTAMP:20260422T233036
CREATED:20220412T155415Z
LAST-MODIFIED:20231123T105707Z
UID:10002520-1724094000-1724101200@stjohnshatherleigh.uk
SUMMARY:Bible Study Group
DESCRIPTION:Bible Study Group\nIn these we study the bible together\, maybe picking up themes from the previous Sunday. We may sing a bit\, pray for one another and definitely will grow in friendship and fellowship. \nThey may be led by the vicar or other members of the leadership team in different homes and will each have a slightly different ‘flavour’.
URL:https://stjohnshatherleigh.uk/event/bible-study-group-38/2024-08-19/
LOCATION:The Rectory\, The Rectory\, Hatherleigh\, Devon\, EX20 3JY\, United Kingdom
CATEGORIES:Bible Study Group
ATTACH;FMTTYPE=image/jpeg:https://stjohnshatherleigh.uk/wp-content/uploads/2022/02/Home_Group.jpg
END:VEVENT
BEGIN:VEVENT
DTSTART;TZID=UTC:20240812T190000
DTEND;TZID=UTC:20240812T210000
DTSTAMP:20260422T233036
CREATED:20220412T155415Z
LAST-MODIFIED:20231123T105707Z
UID:10002519-1723489200-1723496400@stjohnshatherleigh.uk
SUMMARY:Bible Study Group
DESCRIPTION:Bible Study Group\nIn these we study the bible together\, maybe picking up themes from the previous Sunday. We may sing a bit\, pray for one another and definitely will grow in friendship and fellowship. \nThey may be led by the vicar or other members of the leadership team in different homes and will each have a slightly different ‘flavour’.
URL:https://stjohnshatherleigh.uk/event/bible-study-group-38/2024-08-12/
LOCATION:The Rectory\, The Rectory\, Hatherleigh\, Devon\, EX20 3JY\, United Kingdom
CATEGORIES:Bible Study Group
ATTACH;FMTTYPE=image/jpeg:https://stjohnshatherleigh.uk/wp-content/uploads/2022/02/Home_Group.jpg
END:VEVENT
BEGIN:VEVENT
DTSTART;TZID=UTC:20240805T190000
DTEND;TZID=UTC:20240805T210000
DTSTAMP:20260422T233036
CREATED:20220412T155415Z
LAST-MODIFIED:20231123T105707Z
UID:10002518-1722884400-1722891600@stjohnshatherleigh.uk
SUMMARY:Bible Study Group
DESCRIPTION:Bible Study Group\nIn these we study the bible together\, maybe picking up themes from the previous Sunday. We may sing a bit\, pray for one another and definitely will grow in friendship and fellowship. \nThey may be led by the vicar or other members of the leadership team in different homes and will each have a slightly different ‘flavour’.
URL:https://stjohnshatherleigh.uk/event/bible-study-group-38/2024-08-05/
LOCATION:The Rectory\, The Rectory\, Hatherleigh\, Devon\, EX20 3JY\, United Kingdom
CATEGORIES:Bible Study Group
ATTACH;FMTTYPE=image/jpeg:https://stjohnshatherleigh.uk/wp-content/uploads/2022/02/Home_Group.jpg
END:VEVENT
BEGIN:VEVENT
DTSTART;TZID=UTC:20240729T190000
DTEND;TZID=UTC:20240729T210000
DTSTAMP:20260422T233036
CREATED:20220412T155415Z
LAST-MODIFIED:20231123T105707Z
UID:10002517-1722279600-1722286800@stjohnshatherleigh.uk
SUMMARY:Bible Study Group
DESCRIPTION:Bible Study Group\nIn these we study the bible together\, maybe picking up themes from the previous Sunday. We may sing a bit\, pray for one another and definitely will grow in friendship and fellowship. \nThey may be led by the vicar or other members of the leadership team in different homes and will each have a slightly different ‘flavour’.
URL:https://stjohnshatherleigh.uk/event/bible-study-group-38/2024-07-29/
LOCATION:The Rectory\, The Rectory\, Hatherleigh\, Devon\, EX20 3JY\, United Kingdom
CATEGORIES:Bible Study Group
ATTACH;FMTTYPE=image/jpeg:https://stjohnshatherleigh.uk/wp-content/uploads/2022/02/Home_Group.jpg
END:VEVENT
BEGIN:VEVENT
DTSTART;TZID=UTC:20240722T190000
DTEND;TZID=UTC:20240722T210000
DTSTAMP:20260422T233036
CREATED:20220412T155415Z
LAST-MODIFIED:20231123T105707Z
UID:10002516-1721674800-1721682000@stjohnshatherleigh.uk
SUMMARY:Bible Study Group
DESCRIPTION:Bible Study Group\nIn these we study the bible together\, maybe picking up themes from the previous Sunday. We may sing a bit\, pray for one another and definitely will grow in friendship and fellowship. \nThey may be led by the vicar or other members of the leadership team in different homes and will each have a slightly different ‘flavour’.
URL:https://stjohnshatherleigh.uk/event/bible-study-group-38/2024-07-22/
LOCATION:The Rectory\, The Rectory\, Hatherleigh\, Devon\, EX20 3JY\, United Kingdom
CATEGORIES:Bible Study Group
ATTACH;FMTTYPE=image/jpeg:https://stjohnshatherleigh.uk/wp-content/uploads/2022/02/Home_Group.jpg
END:VEVENT
BEGIN:VEVENT
DTSTART;TZID=UTC:20240715T190000
DTEND;TZID=UTC:20240715T210000
DTSTAMP:20260422T233036
CREATED:20220412T155415Z
LAST-MODIFIED:20231123T105707Z
UID:10002515-1721070000-1721077200@stjohnshatherleigh.uk
SUMMARY:Bible Study Group
DESCRIPTION:Bible Study Group\nIn these we study the bible together\, maybe picking up themes from the previous Sunday. We may sing a bit\, pray for one another and definitely will grow in friendship and fellowship. \nThey may be led by the vicar or other members of the leadership team in different homes and will each have a slightly different ‘flavour’.
URL:https://stjohnshatherleigh.uk/event/bible-study-group-38/2024-07-15/
LOCATION:The Rectory\, The Rectory\, Hatherleigh\, Devon\, EX20 3JY\, United Kingdom
CATEGORIES:Bible Study Group
ATTACH;FMTTYPE=image/jpeg:https://stjohnshatherleigh.uk/wp-content/uploads/2022/02/Home_Group.jpg
END:VEVENT
BEGIN:VEVENT
DTSTART;TZID=UTC:20240708T190000
DTEND;TZID=UTC:20240708T210000
DTSTAMP:20260422T233036
CREATED:20220412T155415Z
LAST-MODIFIED:20231123T105707Z
UID:10002514-1720465200-1720472400@stjohnshatherleigh.uk
SUMMARY:Bible Study Group
DESCRIPTION:Bible Study Group\nIn these we study the bible together\, maybe picking up themes from the previous Sunday. We may sing a bit\, pray for one another and definitely will grow in friendship and fellowship. \nThey may be led by the vicar or other members of the leadership team in different homes and will each have a slightly different ‘flavour’.
URL:https://stjohnshatherleigh.uk/event/bible-study-group-38/2024-07-08/
LOCATION:The Rectory\, The Rectory\, Hatherleigh\, Devon\, EX20 3JY\, United Kingdom
CATEGORIES:Bible Study Group
ATTACH;FMTTYPE=image/jpeg:https://stjohnshatherleigh.uk/wp-content/uploads/2022/02/Home_Group.jpg
END:VEVENT
END:VCALENDAR