BEGIN:VCALENDAR
VERSION:2.0
PRODID:-//St John The Baptist Church, Hatherleigh - ECPv6.15.20//NONSGML v1.0//EN
CALSCALE:GREGORIAN
METHOD:PUBLISH
X-WR-CALNAME:St John The Baptist Church, Hatherleigh
X-ORIGINAL-URL:https://stjohnshatherleigh.uk
X-WR-CALDESC:Events for St John The Baptist Church, Hatherleigh
REFRESH-INTERVAL;VALUE=DURATION:PT1H
X-Robots-Tag:noindex
X-PUBLISHED-TTL:PT1H
BEGIN:VTIMEZONE
TZID:UTC
BEGIN:STANDARD
TZOFFSETFROM:+0000
TZOFFSETTO:+0000
TZNAME:UTC
DTSTART:20220101T000000
END:STANDARD
END:VTIMEZONE
BEGIN:VEVENT
DTSTART;TZID=UTC:20240226T190000
DTEND;TZID=UTC:20240226T210000
DTSTAMP:20260423T072456
CREATED:20220412T155415Z
LAST-MODIFIED:20231123T105707Z
UID:10002495-1708974000-1708981200@stjohnshatherleigh.uk
SUMMARY:Bible Study Group
DESCRIPTION:Bible Study Group\nIn these we study the bible together\, maybe picking up themes from the previous Sunday. We may sing a bit\, pray for one another and definitely will grow in friendship and fellowship. \nThey may be led by the vicar or other members of the leadership team in different homes and will each have a slightly different ‘flavour’.
URL:https://stjohnshatherleigh.uk/event/bible-study-group-38/2024-02-26/
LOCATION:The Rectory\, The Rectory\, Hatherleigh\, Devon\, EX20 3JY\, United Kingdom
CATEGORIES:Bible Study Group
ATTACH;FMTTYPE=image/jpeg:https://stjohnshatherleigh.uk/wp-content/uploads/2022/02/Home_Group.jpg
END:VEVENT
BEGIN:VEVENT
DTSTART;TZID=UTC:20240219T190000
DTEND;TZID=UTC:20240219T210000
DTSTAMP:20260423T072456
CREATED:20220412T155415Z
LAST-MODIFIED:20231123T105707Z
UID:10002494-1708369200-1708376400@stjohnshatherleigh.uk
SUMMARY:Bible Study Group
DESCRIPTION:Bible Study Group\nIn these we study the bible together\, maybe picking up themes from the previous Sunday. We may sing a bit\, pray for one another and definitely will grow in friendship and fellowship. \nThey may be led by the vicar or other members of the leadership team in different homes and will each have a slightly different ‘flavour’.
URL:https://stjohnshatherleigh.uk/event/bible-study-group-38/2024-02-19/
LOCATION:The Rectory\, The Rectory\, Hatherleigh\, Devon\, EX20 3JY\, United Kingdom
CATEGORIES:Bible Study Group
ATTACH;FMTTYPE=image/jpeg:https://stjohnshatherleigh.uk/wp-content/uploads/2022/02/Home_Group.jpg
END:VEVENT
BEGIN:VEVENT
DTSTART;TZID=UTC:20240212T190000
DTEND;TZID=UTC:20240212T210000
DTSTAMP:20260423T072456
CREATED:20220412T155415Z
LAST-MODIFIED:20231123T105707Z
UID:10002493-1707764400-1707771600@stjohnshatherleigh.uk
SUMMARY:Bible Study Group
DESCRIPTION:Bible Study Group\nIn these we study the bible together\, maybe picking up themes from the previous Sunday. We may sing a bit\, pray for one another and definitely will grow in friendship and fellowship. \nThey may be led by the vicar or other members of the leadership team in different homes and will each have a slightly different ‘flavour’.
URL:https://stjohnshatherleigh.uk/event/bible-study-group-38/2024-02-12/
LOCATION:The Rectory\, The Rectory\, Hatherleigh\, Devon\, EX20 3JY\, United Kingdom
CATEGORIES:Bible Study Group
ATTACH;FMTTYPE=image/jpeg:https://stjohnshatherleigh.uk/wp-content/uploads/2022/02/Home_Group.jpg
END:VEVENT
BEGIN:VEVENT
DTSTART;TZID=UTC:20240205T190000
DTEND;TZID=UTC:20240205T210000
DTSTAMP:20260423T072456
CREATED:20220412T155415Z
LAST-MODIFIED:20231123T105707Z
UID:10002492-1707159600-1707166800@stjohnshatherleigh.uk
SUMMARY:Bible Study Group
DESCRIPTION:Bible Study Group\nIn these we study the bible together\, maybe picking up themes from the previous Sunday. We may sing a bit\, pray for one another and definitely will grow in friendship and fellowship. \nThey may be led by the vicar or other members of the leadership team in different homes and will each have a slightly different ‘flavour’.
URL:https://stjohnshatherleigh.uk/event/bible-study-group-38/2024-02-05/
LOCATION:The Rectory\, The Rectory\, Hatherleigh\, Devon\, EX20 3JY\, United Kingdom
CATEGORIES:Bible Study Group
ATTACH;FMTTYPE=image/jpeg:https://stjohnshatherleigh.uk/wp-content/uploads/2022/02/Home_Group.jpg
END:VEVENT
BEGIN:VEVENT
DTSTART;TZID=UTC:20240129T190000
DTEND;TZID=UTC:20240129T210000
DTSTAMP:20260423T072456
CREATED:20220412T155415Z
LAST-MODIFIED:20231123T105707Z
UID:10002491-1706554800-1706562000@stjohnshatherleigh.uk
SUMMARY:Bible Study Group
DESCRIPTION:Bible Study Group\nIn these we study the bible together\, maybe picking up themes from the previous Sunday. We may sing a bit\, pray for one another and definitely will grow in friendship and fellowship. \nThey may be led by the vicar or other members of the leadership team in different homes and will each have a slightly different ‘flavour’.
URL:https://stjohnshatherleigh.uk/event/bible-study-group-38/2024-01-29/
LOCATION:The Rectory\, The Rectory\, Hatherleigh\, Devon\, EX20 3JY\, United Kingdom
CATEGORIES:Bible Study Group
ATTACH;FMTTYPE=image/jpeg:https://stjohnshatherleigh.uk/wp-content/uploads/2022/02/Home_Group.jpg
END:VEVENT
BEGIN:VEVENT
DTSTART;TZID=UTC:20240122T190000
DTEND;TZID=UTC:20240122T210000
DTSTAMP:20260423T072456
CREATED:20220412T155415Z
LAST-MODIFIED:20231123T105707Z
UID:10002490-1705950000-1705957200@stjohnshatherleigh.uk
SUMMARY:Bible Study Group
DESCRIPTION:Bible Study Group\nIn these we study the bible together\, maybe picking up themes from the previous Sunday. We may sing a bit\, pray for one another and definitely will grow in friendship and fellowship. \nThey may be led by the vicar or other members of the leadership team in different homes and will each have a slightly different ‘flavour’.
URL:https://stjohnshatherleigh.uk/event/bible-study-group-38/2024-01-22/
LOCATION:The Rectory\, The Rectory\, Hatherleigh\, Devon\, EX20 3JY\, United Kingdom
CATEGORIES:Bible Study Group
ATTACH;FMTTYPE=image/jpeg:https://stjohnshatherleigh.uk/wp-content/uploads/2022/02/Home_Group.jpg
END:VEVENT
BEGIN:VEVENT
DTSTART;TZID=UTC:20240115T190000
DTEND;TZID=UTC:20240115T210000
DTSTAMP:20260423T072456
CREATED:20220412T155415Z
LAST-MODIFIED:20231123T105707Z
UID:10002489-1705345200-1705352400@stjohnshatherleigh.uk
SUMMARY:Bible Study Group
DESCRIPTION:Bible Study Group\nIn these we study the bible together\, maybe picking up themes from the previous Sunday. We may sing a bit\, pray for one another and definitely will grow in friendship and fellowship. \nThey may be led by the vicar or other members of the leadership team in different homes and will each have a slightly different ‘flavour’.
URL:https://stjohnshatherleigh.uk/event/bible-study-group-38/2024-01-15/
LOCATION:The Rectory\, The Rectory\, Hatherleigh\, Devon\, EX20 3JY\, United Kingdom
CATEGORIES:Bible Study Group
ATTACH;FMTTYPE=image/jpeg:https://stjohnshatherleigh.uk/wp-content/uploads/2022/02/Home_Group.jpg
END:VEVENT
BEGIN:VEVENT
DTSTART;TZID=UTC:20240108T190000
DTEND;TZID=UTC:20240108T210000
DTSTAMP:20260423T072456
CREATED:20220412T155415Z
LAST-MODIFIED:20231123T105707Z
UID:10002488-1704740400-1704747600@stjohnshatherleigh.uk
SUMMARY:Bible Study Group
DESCRIPTION:Bible Study Group\nIn these we study the bible together\, maybe picking up themes from the previous Sunday. We may sing a bit\, pray for one another and definitely will grow in friendship and fellowship. \nThey may be led by the vicar or other members of the leadership team in different homes and will each have a slightly different ‘flavour’.
URL:https://stjohnshatherleigh.uk/event/bible-study-group-38/2024-01-08/
LOCATION:The Rectory\, The Rectory\, Hatherleigh\, Devon\, EX20 3JY\, United Kingdom
CATEGORIES:Bible Study Group
ATTACH;FMTTYPE=image/jpeg:https://stjohnshatherleigh.uk/wp-content/uploads/2022/02/Home_Group.jpg
END:VEVENT
BEGIN:VEVENT
DTSTART;TZID=UTC:20240101T190000
DTEND;TZID=UTC:20240101T210000
DTSTAMP:20260423T072456
CREATED:20220412T155415Z
LAST-MODIFIED:20231123T105707Z
UID:10002487-1704135600-1704142800@stjohnshatherleigh.uk
SUMMARY:Bible Study Group
DESCRIPTION:Bible Study Group\nIn these we study the bible together\, maybe picking up themes from the previous Sunday. We may sing a bit\, pray for one another and definitely will grow in friendship and fellowship. \nThey may be led by the vicar or other members of the leadership team in different homes and will each have a slightly different ‘flavour’.
URL:https://stjohnshatherleigh.uk/event/bible-study-group-38/2024-01-01/
LOCATION:The Rectory\, The Rectory\, Hatherleigh\, Devon\, EX20 3JY\, United Kingdom
CATEGORIES:Bible Study Group
ATTACH;FMTTYPE=image/jpeg:https://stjohnshatherleigh.uk/wp-content/uploads/2022/02/Home_Group.jpg
END:VEVENT
BEGIN:VEVENT
DTSTART;TZID=UTC:20231225T190000
DTEND;TZID=UTC:20231225T210000
DTSTAMP:20260423T072456
CREATED:20220412T155415Z
LAST-MODIFIED:20231123T105707Z
UID:10002486-1703530800-1703538000@stjohnshatherleigh.uk
SUMMARY:Bible Study Group
DESCRIPTION:Bible Study Group\nIn these we study the bible together\, maybe picking up themes from the previous Sunday. We may sing a bit\, pray for one another and definitely will grow in friendship and fellowship. \nThey may be led by the vicar or other members of the leadership team in different homes and will each have a slightly different ‘flavour’.
URL:https://stjohnshatherleigh.uk/event/bible-study-group-38/2023-12-25/
LOCATION:The Rectory\, The Rectory\, Hatherleigh\, Devon\, EX20 3JY\, United Kingdom
CATEGORIES:Bible Study Group
ATTACH;FMTTYPE=image/jpeg:https://stjohnshatherleigh.uk/wp-content/uploads/2022/02/Home_Group.jpg
END:VEVENT
BEGIN:VEVENT
DTSTART;TZID=UTC:20231218T190000
DTEND;TZID=UTC:20231218T210000
DTSTAMP:20260423T072456
CREATED:20220412T155415Z
LAST-MODIFIED:20231123T105707Z
UID:10002485-1702926000-1702933200@stjohnshatherleigh.uk
SUMMARY:Bible Study Group
DESCRIPTION:Bible Study Group\nIn these we study the bible together\, maybe picking up themes from the previous Sunday. We may sing a bit\, pray for one another and definitely will grow in friendship and fellowship. \nThey may be led by the vicar or other members of the leadership team in different homes and will each have a slightly different ‘flavour’.
URL:https://stjohnshatherleigh.uk/event/bible-study-group-38/2023-12-18/
LOCATION:The Rectory\, The Rectory\, Hatherleigh\, Devon\, EX20 3JY\, United Kingdom
CATEGORIES:Bible Study Group
ATTACH;FMTTYPE=image/jpeg:https://stjohnshatherleigh.uk/wp-content/uploads/2022/02/Home_Group.jpg
END:VEVENT
BEGIN:VEVENT
DTSTART;TZID=UTC:20231211T190000
DTEND;TZID=UTC:20231211T210000
DTSTAMP:20260423T072456
CREATED:20220412T155415Z
LAST-MODIFIED:20231123T105707Z
UID:10002484-1702321200-1702328400@stjohnshatherleigh.uk
SUMMARY:Bible Study Group
DESCRIPTION:Bible Study Group\nIn these we study the bible together\, maybe picking up themes from the previous Sunday. We may sing a bit\, pray for one another and definitely will grow in friendship and fellowship. \nThey may be led by the vicar or other members of the leadership team in different homes and will each have a slightly different ‘flavour’.
URL:https://stjohnshatherleigh.uk/event/bible-study-group-38/2023-12-11/
LOCATION:The Rectory\, The Rectory\, Hatherleigh\, Devon\, EX20 3JY\, United Kingdom
CATEGORIES:Bible Study Group
ATTACH;FMTTYPE=image/jpeg:https://stjohnshatherleigh.uk/wp-content/uploads/2022/02/Home_Group.jpg
END:VEVENT
BEGIN:VEVENT
DTSTART;TZID=UTC:20231204T190000
DTEND;TZID=UTC:20231204T210000
DTSTAMP:20260423T072456
CREATED:20220412T155415Z
LAST-MODIFIED:20231123T105707Z
UID:10002483-1701716400-1701723600@stjohnshatherleigh.uk
SUMMARY:Bible Study Group
DESCRIPTION:Bible Study Group\nIn these we study the bible together\, maybe picking up themes from the previous Sunday. We may sing a bit\, pray for one another and definitely will grow in friendship and fellowship. \nThey may be led by the vicar or other members of the leadership team in different homes and will each have a slightly different ‘flavour’.
URL:https://stjohnshatherleigh.uk/event/bible-study-group-38/2023-12-04/
LOCATION:The Rectory\, The Rectory\, Hatherleigh\, Devon\, EX20 3JY\, United Kingdom
CATEGORIES:Bible Study Group
ATTACH;FMTTYPE=image/jpeg:https://stjohnshatherleigh.uk/wp-content/uploads/2022/02/Home_Group.jpg
END:VEVENT
BEGIN:VEVENT
DTSTART;TZID=UTC:20231127T190000
DTEND;TZID=UTC:20231127T210000
DTSTAMP:20260423T072456
CREATED:20220412T155415Z
LAST-MODIFIED:20231123T105707Z
UID:10002482-1701111600-1701118800@stjohnshatherleigh.uk
SUMMARY:Bible Study Group
DESCRIPTION:Bible Study Group\nIn these we study the bible together\, maybe picking up themes from the previous Sunday. We may sing a bit\, pray for one another and definitely will grow in friendship and fellowship. \nThey may be led by the vicar or other members of the leadership team in different homes and will each have a slightly different ‘flavour’.
URL:https://stjohnshatherleigh.uk/event/bible-study-group-38/2023-11-27/
LOCATION:The Rectory\, The Rectory\, Hatherleigh\, Devon\, EX20 3JY\, United Kingdom
CATEGORIES:Bible Study Group
ATTACH;FMTTYPE=image/jpeg:https://stjohnshatherleigh.uk/wp-content/uploads/2022/02/Home_Group.jpg
END:VEVENT
BEGIN:VEVENT
DTSTART;TZID=UTC:20231120T190000
DTEND;TZID=UTC:20231120T210000
DTSTAMP:20260423T072456
CREATED:20220412T155415Z
LAST-MODIFIED:20231123T105707Z
UID:10002481-1700506800-1700514000@stjohnshatherleigh.uk
SUMMARY:Bible Study Group
DESCRIPTION:Bible Study Group\nIn these we study the bible together\, maybe picking up themes from the previous Sunday. We may sing a bit\, pray for one another and definitely will grow in friendship and fellowship. \nThey may be led by the vicar or other members of the leadership team in different homes and will each have a slightly different ‘flavour’.
URL:https://stjohnshatherleigh.uk/event/bible-study-group-38/2023-11-20/
LOCATION:The Rectory\, The Rectory\, Hatherleigh\, Devon\, EX20 3JY\, United Kingdom
CATEGORIES:Bible Study Group
ATTACH;FMTTYPE=image/jpeg:https://stjohnshatherleigh.uk/wp-content/uploads/2022/02/Home_Group.jpg
END:VEVENT
BEGIN:VEVENT
DTSTART;TZID=UTC:20231113T190000
DTEND;TZID=UTC:20231113T210000
DTSTAMP:20260423T072456
CREATED:20220412T155415Z
LAST-MODIFIED:20231123T105707Z
UID:10002480-1699902000-1699909200@stjohnshatherleigh.uk
SUMMARY:Bible Study Group
DESCRIPTION:Bible Study Group\nIn these we study the bible together\, maybe picking up themes from the previous Sunday. We may sing a bit\, pray for one another and definitely will grow in friendship and fellowship. \nThey may be led by the vicar or other members of the leadership team in different homes and will each have a slightly different ‘flavour’.
URL:https://stjohnshatherleigh.uk/event/bible-study-group-38/2023-11-13/
LOCATION:The Rectory\, The Rectory\, Hatherleigh\, Devon\, EX20 3JY\, United Kingdom
CATEGORIES:Bible Study Group
ATTACH;FMTTYPE=image/jpeg:https://stjohnshatherleigh.uk/wp-content/uploads/2022/02/Home_Group.jpg
END:VEVENT
BEGIN:VEVENT
DTSTART;TZID=UTC:20231106T190000
DTEND;TZID=UTC:20231106T210000
DTSTAMP:20260423T072456
CREATED:20220412T155415Z
LAST-MODIFIED:20231123T105707Z
UID:10002479-1699297200-1699304400@stjohnshatherleigh.uk
SUMMARY:Bible Study Group
DESCRIPTION:Bible Study Group\nIn these we study the bible together\, maybe picking up themes from the previous Sunday. We may sing a bit\, pray for one another and definitely will grow in friendship and fellowship. \nThey may be led by the vicar or other members of the leadership team in different homes and will each have a slightly different ‘flavour’.
URL:https://stjohnshatherleigh.uk/event/bible-study-group-38/2023-11-06/
LOCATION:The Rectory\, The Rectory\, Hatherleigh\, Devon\, EX20 3JY\, United Kingdom
CATEGORIES:Bible Study Group
ATTACH;FMTTYPE=image/jpeg:https://stjohnshatherleigh.uk/wp-content/uploads/2022/02/Home_Group.jpg
END:VEVENT
BEGIN:VEVENT
DTSTART;TZID=UTC:20231030T190000
DTEND;TZID=UTC:20231030T210000
DTSTAMP:20260423T072456
CREATED:20220412T155415Z
LAST-MODIFIED:20231123T105707Z
UID:10002478-1698692400-1698699600@stjohnshatherleigh.uk
SUMMARY:Bible Study Group
DESCRIPTION:Bible Study Group\nIn these we study the bible together\, maybe picking up themes from the previous Sunday. We may sing a bit\, pray for one another and definitely will grow in friendship and fellowship. \nThey may be led by the vicar or other members of the leadership team in different homes and will each have a slightly different ‘flavour’.
URL:https://stjohnshatherleigh.uk/event/bible-study-group-38/2023-10-30/
LOCATION:The Rectory\, The Rectory\, Hatherleigh\, Devon\, EX20 3JY\, United Kingdom
CATEGORIES:Bible Study Group
ATTACH;FMTTYPE=image/jpeg:https://stjohnshatherleigh.uk/wp-content/uploads/2022/02/Home_Group.jpg
END:VEVENT
BEGIN:VEVENT
DTSTART;TZID=UTC:20231023T190000
DTEND;TZID=UTC:20231023T210000
DTSTAMP:20260423T072456
CREATED:20220412T155415Z
LAST-MODIFIED:20231123T105707Z
UID:10002477-1698087600-1698094800@stjohnshatherleigh.uk
SUMMARY:Bible Study Group
DESCRIPTION:Bible Study Group\nIn these we study the bible together\, maybe picking up themes from the previous Sunday. We may sing a bit\, pray for one another and definitely will grow in friendship and fellowship. \nThey may be led by the vicar or other members of the leadership team in different homes and will each have a slightly different ‘flavour’.
URL:https://stjohnshatherleigh.uk/event/bible-study-group-38/2023-10-23/
LOCATION:The Rectory\, The Rectory\, Hatherleigh\, Devon\, EX20 3JY\, United Kingdom
CATEGORIES:Bible Study Group
ATTACH;FMTTYPE=image/jpeg:https://stjohnshatherleigh.uk/wp-content/uploads/2022/02/Home_Group.jpg
END:VEVENT
BEGIN:VEVENT
DTSTART;TZID=UTC:20231016T190000
DTEND;TZID=UTC:20231016T210000
DTSTAMP:20260423T072456
CREATED:20220412T155415Z
LAST-MODIFIED:20231123T105707Z
UID:10002476-1697482800-1697490000@stjohnshatherleigh.uk
SUMMARY:Bible Study Group
DESCRIPTION:Bible Study Group\nIn these we study the bible together\, maybe picking up themes from the previous Sunday. We may sing a bit\, pray for one another and definitely will grow in friendship and fellowship. \nThey may be led by the vicar or other members of the leadership team in different homes and will each have a slightly different ‘flavour’.
URL:https://stjohnshatherleigh.uk/event/bible-study-group-38/2023-10-16/
LOCATION:The Rectory\, The Rectory\, Hatherleigh\, Devon\, EX20 3JY\, United Kingdom
CATEGORIES:Bible Study Group
ATTACH;FMTTYPE=image/jpeg:https://stjohnshatherleigh.uk/wp-content/uploads/2022/02/Home_Group.jpg
END:VEVENT
BEGIN:VEVENT
DTSTART;TZID=UTC:20231009T190000
DTEND;TZID=UTC:20231009T210000
DTSTAMP:20260423T072456
CREATED:20220412T155415Z
LAST-MODIFIED:20231123T105707Z
UID:10002475-1696878000-1696885200@stjohnshatherleigh.uk
SUMMARY:Bible Study Group
DESCRIPTION:Bible Study Group\nIn these we study the bible together\, maybe picking up themes from the previous Sunday. We may sing a bit\, pray for one another and definitely will grow in friendship and fellowship. \nThey may be led by the vicar or other members of the leadership team in different homes and will each have a slightly different ‘flavour’.
URL:https://stjohnshatherleigh.uk/event/bible-study-group-38/2023-10-09/
LOCATION:The Rectory\, The Rectory\, Hatherleigh\, Devon\, EX20 3JY\, United Kingdom
CATEGORIES:Bible Study Group
ATTACH;FMTTYPE=image/jpeg:https://stjohnshatherleigh.uk/wp-content/uploads/2022/02/Home_Group.jpg
END:VEVENT
BEGIN:VEVENT
DTSTART;TZID=UTC:20231002T190000
DTEND;TZID=UTC:20231002T210000
DTSTAMP:20260423T072456
CREATED:20220412T155415Z
LAST-MODIFIED:20231123T105707Z
UID:10002474-1696273200-1696280400@stjohnshatherleigh.uk
SUMMARY:Bible Study Group
DESCRIPTION:Bible Study Group\nIn these we study the bible together\, maybe picking up themes from the previous Sunday. We may sing a bit\, pray for one another and definitely will grow in friendship and fellowship. \nThey may be led by the vicar or other members of the leadership team in different homes and will each have a slightly different ‘flavour’.
URL:https://stjohnshatherleigh.uk/event/bible-study-group-38/2023-10-02/
LOCATION:The Rectory\, The Rectory\, Hatherleigh\, Devon\, EX20 3JY\, United Kingdom
CATEGORIES:Bible Study Group
ATTACH;FMTTYPE=image/jpeg:https://stjohnshatherleigh.uk/wp-content/uploads/2022/02/Home_Group.jpg
END:VEVENT
BEGIN:VEVENT
DTSTART;TZID=UTC:20230925T190000
DTEND;TZID=UTC:20230925T210000
DTSTAMP:20260423T072456
CREATED:20220412T155415Z
LAST-MODIFIED:20231123T105707Z
UID:10002473-1695668400-1695675600@stjohnshatherleigh.uk
SUMMARY:Bible Study Group
DESCRIPTION:Bible Study Group\nIn these we study the bible together\, maybe picking up themes from the previous Sunday. We may sing a bit\, pray for one another and definitely will grow in friendship and fellowship. \nThey may be led by the vicar or other members of the leadership team in different homes and will each have a slightly different ‘flavour’.
URL:https://stjohnshatherleigh.uk/event/bible-study-group-38/2023-09-25/
LOCATION:The Rectory\, The Rectory\, Hatherleigh\, Devon\, EX20 3JY\, United Kingdom
CATEGORIES:Bible Study Group
ATTACH;FMTTYPE=image/jpeg:https://stjohnshatherleigh.uk/wp-content/uploads/2022/02/Home_Group.jpg
END:VEVENT
BEGIN:VEVENT
DTSTART;TZID=UTC:20230918T190000
DTEND;TZID=UTC:20230918T210000
DTSTAMP:20260423T072456
CREATED:20220412T155415Z
LAST-MODIFIED:20231123T105707Z
UID:10002472-1695063600-1695070800@stjohnshatherleigh.uk
SUMMARY:Bible Study Group
DESCRIPTION:Bible Study Group\nIn these we study the bible together\, maybe picking up themes from the previous Sunday. We may sing a bit\, pray for one another and definitely will grow in friendship and fellowship. \nThey may be led by the vicar or other members of the leadership team in different homes and will each have a slightly different ‘flavour’.
URL:https://stjohnshatherleigh.uk/event/bible-study-group-38/2023-09-18/
LOCATION:The Rectory\, The Rectory\, Hatherleigh\, Devon\, EX20 3JY\, United Kingdom
CATEGORIES:Bible Study Group
ATTACH;FMTTYPE=image/jpeg:https://stjohnshatherleigh.uk/wp-content/uploads/2022/02/Home_Group.jpg
END:VEVENT
BEGIN:VEVENT
DTSTART;TZID=UTC:20230911T190000
DTEND;TZID=UTC:20230911T210000
DTSTAMP:20260423T072456
CREATED:20220412T155415Z
LAST-MODIFIED:20231123T105707Z
UID:10002471-1694458800-1694466000@stjohnshatherleigh.uk
SUMMARY:Bible Study Group
DESCRIPTION:Bible Study Group\nIn these we study the bible together\, maybe picking up themes from the previous Sunday. We may sing a bit\, pray for one another and definitely will grow in friendship and fellowship. \nThey may be led by the vicar or other members of the leadership team in different homes and will each have a slightly different ‘flavour’.
URL:https://stjohnshatherleigh.uk/event/bible-study-group-38/2023-09-11/
LOCATION:The Rectory\, The Rectory\, Hatherleigh\, Devon\, EX20 3JY\, United Kingdom
CATEGORIES:Bible Study Group
ATTACH;FMTTYPE=image/jpeg:https://stjohnshatherleigh.uk/wp-content/uploads/2022/02/Home_Group.jpg
END:VEVENT
BEGIN:VEVENT
DTSTART;TZID=UTC:20230904T190000
DTEND;TZID=UTC:20230904T210000
DTSTAMP:20260423T072456
CREATED:20220412T155415Z
LAST-MODIFIED:20231123T105707Z
UID:10002470-1693854000-1693861200@stjohnshatherleigh.uk
SUMMARY:Bible Study Group
DESCRIPTION:Bible Study Group\nIn these we study the bible together\, maybe picking up themes from the previous Sunday. We may sing a bit\, pray for one another and definitely will grow in friendship and fellowship. \nThey may be led by the vicar or other members of the leadership team in different homes and will each have a slightly different ‘flavour’.
URL:https://stjohnshatherleigh.uk/event/bible-study-group-38/2023-09-04/
LOCATION:The Rectory\, The Rectory\, Hatherleigh\, Devon\, EX20 3JY\, United Kingdom
CATEGORIES:Bible Study Group
ATTACH;FMTTYPE=image/jpeg:https://stjohnshatherleigh.uk/wp-content/uploads/2022/02/Home_Group.jpg
END:VEVENT
BEGIN:VEVENT
DTSTART;TZID=UTC:20230626T190000
DTEND;TZID=UTC:20230626T210000
DTSTAMP:20260423T072456
CREATED:20220412T155415Z
LAST-MODIFIED:20231123T105707Z
UID:10002469-1687806000-1687813200@stjohnshatherleigh.uk
SUMMARY:Bible Study Group
DESCRIPTION:Bible Study Group\nIn these we study the bible together\, maybe picking up themes from the previous Sunday. We may sing a bit\, pray for one another and definitely will grow in friendship and fellowship. \nThey may be led by the vicar or other members of the leadership team in different homes and will each have a slightly different ‘flavour’.
URL:https://stjohnshatherleigh.uk/event/bible-study-group-38/2023-06-26/
LOCATION:The Rectory\, The Rectory\, Hatherleigh\, Devon\, EX20 3JY\, United Kingdom
CATEGORIES:Bible Study Group
ATTACH;FMTTYPE=image/jpeg:https://stjohnshatherleigh.uk/wp-content/uploads/2022/02/Home_Group.jpg
END:VEVENT
BEGIN:VEVENT
DTSTART;TZID=UTC:20230619T190000
DTEND;TZID=UTC:20230619T210000
DTSTAMP:20260423T072456
CREATED:20220412T155415Z
LAST-MODIFIED:20231123T105707Z
UID:10002468-1687201200-1687208400@stjohnshatherleigh.uk
SUMMARY:Bible Study Group
DESCRIPTION:Bible Study Group\nIn these we study the bible together\, maybe picking up themes from the previous Sunday. We may sing a bit\, pray for one another and definitely will grow in friendship and fellowship. \nThey may be led by the vicar or other members of the leadership team in different homes and will each have a slightly different ‘flavour’.
URL:https://stjohnshatherleigh.uk/event/bible-study-group-38/2023-06-19/
LOCATION:The Rectory\, The Rectory\, Hatherleigh\, Devon\, EX20 3JY\, United Kingdom
CATEGORIES:Bible Study Group
ATTACH;FMTTYPE=image/jpeg:https://stjohnshatherleigh.uk/wp-content/uploads/2022/02/Home_Group.jpg
END:VEVENT
BEGIN:VEVENT
DTSTART;TZID=UTC:20230612T190000
DTEND;TZID=UTC:20230612T210000
DTSTAMP:20260423T072456
CREATED:20220412T155415Z
LAST-MODIFIED:20231123T105707Z
UID:10002467-1686596400-1686603600@stjohnshatherleigh.uk
SUMMARY:Bible Study Group
DESCRIPTION:Bible Study Group\nIn these we study the bible together\, maybe picking up themes from the previous Sunday. We may sing a bit\, pray for one another and definitely will grow in friendship and fellowship. \nThey may be led by the vicar or other members of the leadership team in different homes and will each have a slightly different ‘flavour’.
URL:https://stjohnshatherleigh.uk/event/bible-study-group-38/2023-06-12/
LOCATION:The Rectory\, The Rectory\, Hatherleigh\, Devon\, EX20 3JY\, United Kingdom
CATEGORIES:Bible Study Group
ATTACH;FMTTYPE=image/jpeg:https://stjohnshatherleigh.uk/wp-content/uploads/2022/02/Home_Group.jpg
END:VEVENT
BEGIN:VEVENT
DTSTART;TZID=UTC:20230605T190000
DTEND;TZID=UTC:20230605T210000
DTSTAMP:20260423T072456
CREATED:20220412T155415Z
LAST-MODIFIED:20231123T105707Z
UID:10002466-1685991600-1685998800@stjohnshatherleigh.uk
SUMMARY:Bible Study Group
DESCRIPTION:Bible Study Group\nIn these we study the bible together\, maybe picking up themes from the previous Sunday. We may sing a bit\, pray for one another and definitely will grow in friendship and fellowship. \nThey may be led by the vicar or other members of the leadership team in different homes and will each have a slightly different ‘flavour’.
URL:https://stjohnshatherleigh.uk/event/bible-study-group-38/2023-06-05/
LOCATION:The Rectory\, The Rectory\, Hatherleigh\, Devon\, EX20 3JY\, United Kingdom
CATEGORIES:Bible Study Group
ATTACH;FMTTYPE=image/jpeg:https://stjohnshatherleigh.uk/wp-content/uploads/2022/02/Home_Group.jpg
END:VEVENT
END:VCALENDAR